BEGIN:VCALENDAR
VERSION:2.0
PRODID:-//achurchnearyou.com//eventfeed//EN
CALSCALE:GREGORIAN
METHOD:PUBLISH
X-WR-TIMEZONE:UTC
BEGIN:VEVENT
SUMMARY:PCC Meeting
DTSTART:20260129T133000Z
DTEND:20260129T153000Z
DTSTAMP:20260421T050203Z
UID:7502252026-01-29 13:30:00+00:00achurchnearyou
CATEGORIES:
DESCRIPTION:A Meeting of the Parochial Church Council will take place in t
 he Old Manse.
LOCATION:The Old Manse
URL:https://www.achurchnearyou.com/church/2117/service-and-events/events/7
 50225/
END:VEVENT
END:VCALENDAR
