BEGIN:VCALENDAR
VERSION:2.0
PRODID:-//achurchnearyou.com//eventfeed//EN
CALSCALE:GREGORIAN
METHOD:PUBLISH
X-WR-TIMEZONE:UTC
BEGIN:VEVENT
SUMMARY:Carol Service
DTSTART:20251221T170000Z
DTEND:20251221T180000Z
DTSTAMP:20260421T041302Z
UID:6114962025-12-21 17:00:00+00:00achurchnearyou
CATEGORIES:
DESCRIPTION:Carols and Readings with the odd learning twist and activities
  for children.\nFollowed by refreshments\nAll Donations will go to the Eas
 t Anglian Children's Hospices:  E.A.S.T.
GEO:0.923275;52.271965
LOCATION:Great Ashfield\, All Saints
URL:https://www.achurchnearyou.com/church/2131/service-and-events/events/6
 11496/
END:VEVENT
END:VCALENDAR
