BEGIN:VCALENDAR
VERSION:2.0
PRODID:-//achurchnearyou.com//eventfeed//EN
CALSCALE:GREGORIAN
METHOD:PUBLISH
X-WR-TIMEZONE:UTC
BEGIN:VEVENT
SUMMARY:Maundy Thursday
DTSTART;TZID=Europe/London:20260402T193000
DTEND;TZID=Europe/London:20260402T210000
DTSTAMP:20260421T075728Z
UID:13211831775154600.0achurchnearyou
CATEGORIES:
DESCRIPTION:Maundy Thursday with stripping of the altar and vigil till 9.0
 0pm
LOCATION:Pakenham\, St Mary
URL:https://www.achurchnearyou.com/church/2131/service-and-events/events/1
 321183/
END:VEVENT
BEGIN:VEVENT
SUMMARY:Good Friday Walk of Witness through Great Ashfield
DTSTART;TZID=Europe/London:20260403T013000
DTEND;TZID=Europe/London:20260403T023000
DTSTAMP:20260421T075728Z
UID:13059481775176200.0achurchnearyou
CATEGORIES:
DESCRIPTION:Gathering at the Village Hall in Great Ashfield at 1.30pm \, w
 e walk with a cross through the village\, along Elmswell Road\, to the Chu
 rch where there is a short service at 2.00pm\, for Good Friday.  This is t
 hen followed by refreshments including Hot Cross Buns.  Suitable for adult
 s and children from junior ages upwards.
GEO:0.923275;52.271965
LOCATION:Great Ashfield\, All Saints
URL:https://www.achurchnearyou.com/church/2131/service-and-events/events/1
 305948/
END:VEVENT
BEGIN:VEVENT
SUMMARY:Family @ Church - F@C
DTSTART;TZID=Europe/London:20260405T100000
DTEND;TZID=Europe/London:20260405T110000
DTSTAMP:20260421T075728Z
UID:12127541775379600.0achurchnearyou
CATEGORIES:
DESCRIPTION:A monthly Benefice gathering at Pakenham St Mary's Church\, fo
 r the oldest to the youngest in our 6 parishes. It is interactive with a m
 ix of hymns and songs\, and a theme for each month.  Refreshments & Crafts
  begin at 09.30\, the service at 10.00\, and more refreshments are there a
 fter the service ends - with lots of chatting.
LOCATION:Pakenham St Mary's Church
URL:https://www.achurchnearyou.com/church/2131/service-and-events/events/1
 212754/
END:VEVENT
BEGIN:VEVENT
SUMMARY:Family Festival Communion for Easter Day
DTSTART;TZID=Europe/London:20260405T110000
DTEND;TZID=Europe/London:20260405T120000
DTSTAMP:20260421T075728Z
UID:13059511775383200.0achurchnearyou
CATEGORIES:
DESCRIPTION:A joyful celebration of Christ's Resurrection\, for all the fa
 mily - Easter eggs distributed afterwards
GEO:0.923275;52.271965
LOCATION:Great Ashfield\, All Saints
URL:https://www.achurchnearyou.com/church/2131/service-and-events/events/1
 305951/
END:VEVENT
BEGIN:VEVENT
SUMMARY:Morning Worship
DTSTART;TZID=Europe/London:20260412T093000
DTEND;TZID=Europe/London:20260412T101500
DTSTAMP:20260421T075728Z
UID:12127561775982600.0achurchnearyou
CATEGORIES:
DESCRIPTION:A simple service conducted by a parish Elder.
GEO:0.923275;52.271965
LOCATION:Great Ashfield\, All Saints
URL:https://www.achurchnearyou.com/church/2131/service-and-events/events/1
 212756/
END:VEVENT
BEGIN:VEVENT
SUMMARY:TOAST : Talking Over A Small Table
DTSTART;TZID=Europe/London:20260426T093000
DTEND;TZID=Europe/London:20260426T110000
DTSTAMP:20260421T075728Z
UID:12127511777192200.0achurchnearyou
CATEGORIES:
DESCRIPTION:A Community Breakfast.  It is not a church service but a 'serv
 ice' to our community\, underpinned by prayer beforehand. Drop in at any t
 ime in the 90 minutes for bacon sandwiches\, toast\, spreads\, juices\, ca
 fetiere coffee and tea. Chat\, air concerns\, share and support in a frien
 dly\, caring space.  A great place to feel welcome and accepted in our com
 munity.
GEO:0.923275;52.271965
LOCATION:Great Ashfield\, All Saints
URL:https://www.achurchnearyou.com/church/2131/service-and-events/events/1
 212751/
END:VEVENT
BEGIN:VEVENT
SUMMARY:Family @ Church - F@C
DTSTART;TZID=Europe/London:20260503T100000
DTEND;TZID=Europe/London:20260503T110000
DTSTAMP:20260421T075728Z
UID:12127541777798800.0achurchnearyou
CATEGORIES:
DESCRIPTION:A monthly Benefice gathering at Pakenham St Mary's Church\, fo
 r the oldest to the youngest in our 6 parishes. It is interactive with a m
 ix of hymns and songs\, and a theme for each month.  Refreshments & Crafts
  begin at 09.30\, the service at 10.00\, and more refreshments are there a
 fter the service ends - with lots of chatting.
LOCATION:Pakenham St Mary's Church
URL:https://www.achurchnearyou.com/church/2131/service-and-events/events/1
 212754/
END:VEVENT
BEGIN:VEVENT
SUMMARY:Morning Worship
DTSTART;TZID=Europe/London:20260510T093000
DTEND;TZID=Europe/London:20260510T101500
DTSTAMP:20260421T075728Z
UID:12127561778401800.0achurchnearyou
CATEGORIES:
DESCRIPTION:A simple service conducted by a parish Elder.
GEO:0.923275;52.271965
LOCATION:Great Ashfield\, All Saints
URL:https://www.achurchnearyou.com/church/2131/service-and-events/events/1
 212756/
END:VEVENT
BEGIN:VEVENT
SUMMARY:TOAST : Talking Over A Small Table
DTSTART;TZID=Europe/London:20260524T093000
DTEND;TZID=Europe/London:20260524T110000
DTSTAMP:20260421T075728Z
UID:12127511779611400.0achurchnearyou
CATEGORIES:
DESCRIPTION:A Community Breakfast.  It is not a church service but a 'serv
 ice' to our community\, underpinned by prayer beforehand. Drop in at any t
 ime in the 90 minutes for bacon sandwiches\, toast\, spreads\, juices\, ca
 fetiere coffee and tea. Chat\, air concerns\, share and support in a frien
 dly\, caring space.  A great place to feel welcome and accepted in our com
 munity.
GEO:0.923275;52.271965
LOCATION:Great Ashfield\, All Saints
URL:https://www.achurchnearyou.com/church/2131/service-and-events/events/1
 212751/
END:VEVENT
BEGIN:VEVENT
SUMMARY:Family @ Church - F@C
DTSTART;TZID=Europe/London:20260607T100000
DTEND;TZID=Europe/London:20260607T110000
DTSTAMP:20260421T075728Z
UID:12127541780822800.0achurchnearyou
CATEGORIES:
DESCRIPTION:A monthly Benefice gathering at Pakenham St Mary's Church\, fo
 r the oldest to the youngest in our 6 parishes. It is interactive with a m
 ix of hymns and songs\, and a theme for each month.  Refreshments & Crafts
  begin at 09.30\, the service at 10.00\, and more refreshments are there a
 fter the service ends - with lots of chatting.
LOCATION:Pakenham St Mary's Church
URL:https://www.achurchnearyou.com/church/2131/service-and-events/events/1
 212754/
END:VEVENT
BEGIN:VEVENT
SUMMARY:Morning Worship
DTSTART;TZID=Europe/London:20260614T093000
DTEND;TZID=Europe/London:20260614T101500
DTSTAMP:20260421T075728Z
UID:12127561781425800.0achurchnearyou
CATEGORIES:
DESCRIPTION:A simple service conducted by a parish Elder.
GEO:0.923275;52.271965
LOCATION:Great Ashfield\, All Saints
URL:https://www.achurchnearyou.com/church/2131/service-and-events/events/1
 212756/
END:VEVENT
BEGIN:VEVENT
SUMMARY:TOAST : Talking Over A Small Table
DTSTART;TZID=Europe/London:20260628T093000
DTEND;TZID=Europe/London:20260628T110000
DTSTAMP:20260421T075728Z
UID:12127511782635400.0achurchnearyou
CATEGORIES:
DESCRIPTION:A Community Breakfast.  It is not a church service but a 'serv
 ice' to our community\, underpinned by prayer beforehand. Drop in at any t
 ime in the 90 minutes for bacon sandwiches\, toast\, spreads\, juices\, ca
 fetiere coffee and tea. Chat\, air concerns\, share and support in a frien
 dly\, caring space.  A great place to feel welcome and accepted in our com
 munity.
GEO:0.923275;52.271965
LOCATION:Great Ashfield\, All Saints
URL:https://www.achurchnearyou.com/church/2131/service-and-events/events/1
 212751/
END:VEVENT
BEGIN:VEVENT
SUMMARY:Family @ Church - F@C
DTSTART;TZID=Europe/London:20260705T100000
DTEND;TZID=Europe/London:20260705T110000
DTSTAMP:20260421T075728Z
UID:12127541783242000.0achurchnearyou
CATEGORIES:
DESCRIPTION:A monthly Benefice gathering at Pakenham St Mary's Church\, fo
 r the oldest to the youngest in our 6 parishes. It is interactive with a m
 ix of hymns and songs\, and a theme for each month.  Refreshments & Crafts
  begin at 09.30\, the service at 10.00\, and more refreshments are there a
 fter the service ends - with lots of chatting.
LOCATION:Pakenham St Mary's Church
URL:https://www.achurchnearyou.com/church/2131/service-and-events/events/1
 212754/
END:VEVENT
BEGIN:VEVENT
SUMMARY:Morning Worship
DTSTART;TZID=Europe/London:20260712T093000
DTEND;TZID=Europe/London:20260712T101500
DTSTAMP:20260421T075728Z
UID:12127561783845000.0achurchnearyou
CATEGORIES:
DESCRIPTION:A simple service conducted by a parish Elder.
GEO:0.923275;52.271965
LOCATION:Great Ashfield\, All Saints
URL:https://www.achurchnearyou.com/church/2131/service-and-events/events/1
 212756/
END:VEVENT
BEGIN:VEVENT
SUMMARY:TOAST : Talking Over A Small Table
DTSTART;TZID=Europe/London:20260726T093000
DTEND;TZID=Europe/London:20260726T110000
DTSTAMP:20260421T075728Z
UID:12127511785054600.0achurchnearyou
CATEGORIES:
DESCRIPTION:A Community Breakfast.  It is not a church service but a 'serv
 ice' to our community\, underpinned by prayer beforehand. Drop in at any t
 ime in the 90 minutes for bacon sandwiches\, toast\, spreads\, juices\, ca
 fetiere coffee and tea. Chat\, air concerns\, share and support in a frien
 dly\, caring space.  A great place to feel welcome and accepted in our com
 munity.
GEO:0.923275;52.271965
LOCATION:Great Ashfield\, All Saints
URL:https://www.achurchnearyou.com/church/2131/service-and-events/events/1
 212751/
END:VEVENT
BEGIN:VEVENT
SUMMARY:Family @ Church - F@C
DTSTART;TZID=Europe/London:20260802T100000
DTEND;TZID=Europe/London:20260802T110000
DTSTAMP:20260421T075728Z
UID:12127541785661200.0achurchnearyou
CATEGORIES:
DESCRIPTION:A monthly Benefice gathering at Pakenham St Mary's Church\, fo
 r the oldest to the youngest in our 6 parishes. It is interactive with a m
 ix of hymns and songs\, and a theme for each month.  Refreshments & Crafts
  begin at 09.30\, the service at 10.00\, and more refreshments are there a
 fter the service ends - with lots of chatting.
LOCATION:Pakenham St Mary's Church
URL:https://www.achurchnearyou.com/church/2131/service-and-events/events/1
 212754/
END:VEVENT
BEGIN:VEVENT
SUMMARY:Morning Worship
DTSTART;TZID=Europe/London:20260809T093000
DTEND;TZID=Europe/London:20260809T101500
DTSTAMP:20260421T075728Z
UID:12127561786264200.0achurchnearyou
CATEGORIES:
DESCRIPTION:A simple service conducted by a parish Elder.
GEO:0.923275;52.271965
LOCATION:Great Ashfield\, All Saints
URL:https://www.achurchnearyou.com/church/2131/service-and-events/events/1
 212756/
END:VEVENT
BEGIN:VEVENT
SUMMARY:TOAST : Talking Over A Small Table
DTSTART;TZID=Europe/London:20260823T093000
DTEND;TZID=Europe/London:20260823T110000
DTSTAMP:20260421T075728Z
UID:12127511787473800.0achurchnearyou
CATEGORIES:
DESCRIPTION:A Community Breakfast.  It is not a church service but a 'serv
 ice' to our community\, underpinned by prayer beforehand. Drop in at any t
 ime in the 90 minutes for bacon sandwiches\, toast\, spreads\, juices\, ca
 fetiere coffee and tea. Chat\, air concerns\, share and support in a frien
 dly\, caring space.  A great place to feel welcome and accepted in our com
 munity.
GEO:0.923275;52.271965
LOCATION:Great Ashfield\, All Saints
URL:https://www.achurchnearyou.com/church/2131/service-and-events/events/1
 212751/
END:VEVENT
BEGIN:VEVENT
SUMMARY:Family @ Church - F@C
DTSTART;TZID=Europe/London:20260906T100000
DTEND;TZID=Europe/London:20260906T110000
DTSTAMP:20260421T075728Z
UID:12127541788685200.0achurchnearyou
CATEGORIES:
DESCRIPTION:A monthly Benefice gathering at Pakenham St Mary's Church\, fo
 r the oldest to the youngest in our 6 parishes. It is interactive with a m
 ix of hymns and songs\, and a theme for each month.  Refreshments & Crafts
  begin at 09.30\, the service at 10.00\, and more refreshments are there a
 fter the service ends - with lots of chatting.
LOCATION:Pakenham St Mary's Church
URL:https://www.achurchnearyou.com/church/2131/service-and-events/events/1
 212754/
END:VEVENT
BEGIN:VEVENT
SUMMARY:Morning Worship
DTSTART;TZID=Europe/London:20260913T093000
DTEND;TZID=Europe/London:20260913T101500
DTSTAMP:20260421T075728Z
UID:12127561789288200.0achurchnearyou
CATEGORIES:
DESCRIPTION:A simple service conducted by a parish Elder.
GEO:0.923275;52.271965
LOCATION:Great Ashfield\, All Saints
URL:https://www.achurchnearyou.com/church/2131/service-and-events/events/1
 212756/
END:VEVENT
BEGIN:VEVENT
SUMMARY:TOAST : Talking Over A Small Table
DTSTART;TZID=Europe/London:20260927T093000
DTEND;TZID=Europe/London:20260927T110000
DTSTAMP:20260421T075728Z
UID:12127511790497800.0achurchnearyou
CATEGORIES:
DESCRIPTION:A Community Breakfast.  It is not a church service but a 'serv
 ice' to our community\, underpinned by prayer beforehand. Drop in at any t
 ime in the 90 minutes for bacon sandwiches\, toast\, spreads\, juices\, ca
 fetiere coffee and tea. Chat\, air concerns\, share and support in a frien
 dly\, caring space.  A great place to feel welcome and accepted in our com
 munity.
GEO:0.923275;52.271965
LOCATION:Great Ashfield\, All Saints
URL:https://www.achurchnearyou.com/church/2131/service-and-events/events/1
 212751/
END:VEVENT
END:VCALENDAR
