BEGIN:VCALENDAR
VERSION:2.0
PRODID:-//achurchnearyou.com//eventfeed//EN
CALSCALE:GREGORIAN
METHOD:PUBLISH
X-WR-TIMEZONE:UTC
BEGIN:VEVENT
SUMMARY:Easter Day Communion
DTSTART:20260405T073000Z
DTEND:20260405T081500Z
DTSTAMP:20260425T040244Z
UID:4990002026-04-05 07:30:00+00:00achurchnearyou
CATEGORIES:
DESCRIPTION:Easter Day BCP Holy Communion
GEO:0.803928;52.354275
LOCATION:Fakenham Magna\, St Peter
URL:https://www.blackbourneteamministry.org/
END:VEVENT
END:VCALENDAR
