BEGIN:VCALENDAR
VERSION:2.0
PRODID:-//achurchnearyou.com//eventfeed//EN
CALSCALE:GREGORIAN
METHOD:PUBLISH
X-WR-TIMEZONE:UTC
BEGIN:VEVENT
SUMMARY:Morning Prayer
DTSTART;TZID=Europe/London:20240107T110000
DTEND;TZID=Europe/London:20240107T120000
DTSTAMP:20260421T061018Z
UID:10207082024-01-07 11:00:00+00:00achurchnearyou
CATEGORIES:
DESCRIPTION:Traditional Morning Prayer (Common Worship) with hymns
GEO:0.897444;52.122634
LOCATION:Hitcham\, All Saints
URL:https://www.achurchnearyou.com/church/2154/service-and-events/events/1
 020708/
END:VEVENT
BEGIN:VEVENT
SUMMARY:Morning Prayer
DTSTART;TZID=Europe/London:20240204T110000
DTEND;TZID=Europe/London:20240204T120000
DTSTAMP:20260421T061018Z
UID:10207082024-02-04 11:00:00+00:00achurchnearyou
CATEGORIES:
DESCRIPTION:Traditional Morning Prayer (Common Worship) with hymns
GEO:0.897444;52.122634
LOCATION:Hitcham\, All Saints
URL:https://www.achurchnearyou.com/church/2154/service-and-events/events/1
 020708/
END:VEVENT
BEGIN:VEVENT
SUMMARY:Morning Prayer
DTSTART;TZID=Europe/London:20240303T110000
DTEND;TZID=Europe/London:20240303T120000
DTSTAMP:20260421T061018Z
UID:10207082024-03-03 11:00:00+00:00achurchnearyou
CATEGORIES:
DESCRIPTION:Traditional Morning Prayer (Common Worship) with hymns
GEO:0.897444;52.122634
LOCATION:Hitcham\, All Saints
URL:https://www.achurchnearyou.com/church/2154/service-and-events/events/1
 020708/
END:VEVENT
BEGIN:VEVENT
SUMMARY:Morning Prayer
DTSTART;TZID=Europe/London:20240407T110000
DTEND;TZID=Europe/London:20240407T120000
DTSTAMP:20260421T061018Z
UID:10207082024-04-07 11:00:00+01:00achurchnearyou
CATEGORIES:
DESCRIPTION:Traditional Morning Prayer (Common Worship) with hymns
GEO:0.897444;52.122634
LOCATION:Hitcham\, All Saints
URL:https://www.achurchnearyou.com/church/2154/service-and-events/events/1
 020708/
END:VEVENT
BEGIN:VEVENT
SUMMARY:Morning Prayer
DTSTART;TZID=Europe/London:20240505T110000
DTEND;TZID=Europe/London:20240505T120000
DTSTAMP:20260421T061018Z
UID:10207082024-05-05 11:00:00+01:00achurchnearyou
CATEGORIES:
DESCRIPTION:Traditional Morning Prayer (Common Worship) with hymns
GEO:0.897444;52.122634
LOCATION:Hitcham\, All Saints
URL:https://www.achurchnearyou.com/church/2154/service-and-events/events/1
 020708/
END:VEVENT
BEGIN:VEVENT
SUMMARY:Morning Prayer
DTSTART;TZID=Europe/London:20240602T110000
DTEND;TZID=Europe/London:20240602T120000
DTSTAMP:20260421T061018Z
UID:10207082024-06-02 11:00:00+01:00achurchnearyou
CATEGORIES:
DESCRIPTION:Traditional Morning Prayer (Common Worship) with hymns
GEO:0.897444;52.122634
LOCATION:Hitcham\, All Saints
URL:https://www.achurchnearyou.com/church/2154/service-and-events/events/1
 020708/
END:VEVENT
BEGIN:VEVENT
SUMMARY:Morning Prayer
DTSTART;TZID=Europe/London:20240707T110000
DTEND;TZID=Europe/London:20240707T120000
DTSTAMP:20260421T061018Z
UID:10207082024-07-07 11:00:00+01:00achurchnearyou
CATEGORIES:
DESCRIPTION:Traditional Morning Prayer (Common Worship) with hymns
GEO:0.897444;52.122634
LOCATION:Hitcham\, All Saints
URL:https://www.achurchnearyou.com/church/2154/service-and-events/events/1
 020708/
END:VEVENT
BEGIN:VEVENT
SUMMARY:Morning Prayer
DTSTART;TZID=Europe/London:20240804T110000
DTEND;TZID=Europe/London:20240804T120000
DTSTAMP:20260421T061018Z
UID:10207082024-08-04 11:00:00+01:00achurchnearyou
CATEGORIES:
DESCRIPTION:Traditional Morning Prayer (Common Worship) with hymns
GEO:0.897444;52.122634
LOCATION:Hitcham\, All Saints
URL:https://www.achurchnearyou.com/church/2154/service-and-events/events/1
 020708/
END:VEVENT
BEGIN:VEVENT
SUMMARY:Morning Prayer
DTSTART;TZID=Europe/London:20240901T110000
DTEND;TZID=Europe/London:20240901T120000
DTSTAMP:20260421T061018Z
UID:10207082024-09-01 11:00:00+01:00achurchnearyou
CATEGORIES:
DESCRIPTION:Traditional Morning Prayer (Common Worship) with hymns
GEO:0.897444;52.122634
LOCATION:Hitcham\, All Saints
URL:https://www.achurchnearyou.com/church/2154/service-and-events/events/1
 020708/
END:VEVENT
BEGIN:VEVENT
SUMMARY:Morning Prayer
DTSTART;TZID=Europe/London:20241006T110000
DTEND;TZID=Europe/London:20241006T120000
DTSTAMP:20260421T061018Z
UID:10207082024-10-06 11:00:00+01:00achurchnearyou
CATEGORIES:
DESCRIPTION:Traditional Morning Prayer (Common Worship) with hymns
GEO:0.897444;52.122634
LOCATION:Hitcham\, All Saints
URL:https://www.achurchnearyou.com/church/2154/service-and-events/events/1
 020708/
END:VEVENT
BEGIN:VEVENT
SUMMARY:Morning Prayer
DTSTART;TZID=Europe/London:20241103T110000
DTEND;TZID=Europe/London:20241103T120000
DTSTAMP:20260421T061018Z
UID:10207082024-11-03 11:00:00+00:00achurchnearyou
CATEGORIES:
DESCRIPTION:Traditional Morning Prayer (Common Worship) with hymns
GEO:0.897444;52.122634
LOCATION:Hitcham\, All Saints
URL:https://www.achurchnearyou.com/church/2154/service-and-events/events/1
 020708/
END:VEVENT
BEGIN:VEVENT
SUMMARY:Morning Prayer
DTSTART;TZID=Europe/London:20241201T110000
DTEND;TZID=Europe/London:20241201T120000
DTSTAMP:20260421T061018Z
UID:10207082024-12-01 11:00:00+00:00achurchnearyou
CATEGORIES:
DESCRIPTION:Traditional Morning Prayer (Common Worship) with hymns
GEO:0.897444;52.122634
LOCATION:Hitcham\, All Saints
URL:https://www.achurchnearyou.com/church/2154/service-and-events/events/1
 020708/
END:VEVENT
BEGIN:VEVENT
SUMMARY:Morning Prayer
DTSTART;TZID=Europe/London:20250105T110000
DTEND;TZID=Europe/London:20250105T120000
DTSTAMP:20260421T061018Z
UID:10207082025-01-05 11:00:00+00:00achurchnearyou
CATEGORIES:
DESCRIPTION:Traditional Morning Prayer (Common Worship) with hymns
GEO:0.897444;52.122634
LOCATION:Hitcham\, All Saints
URL:https://www.achurchnearyou.com/church/2154/service-and-events/events/1
 020708/
END:VEVENT
BEGIN:VEVENT
SUMMARY:Morning Prayer
DTSTART;TZID=Europe/London:20250202T110000
DTEND;TZID=Europe/London:20250202T120000
DTSTAMP:20260421T061018Z
UID:10207082025-02-02 11:00:00+00:00achurchnearyou
CATEGORIES:
DESCRIPTION:Traditional Morning Prayer (Common Worship) with hymns
GEO:0.897444;52.122634
LOCATION:Hitcham\, All Saints
URL:https://www.achurchnearyou.com/church/2154/service-and-events/events/1
 020708/
END:VEVENT
BEGIN:VEVENT
SUMMARY:Morning Prayer
DTSTART;TZID=Europe/London:20250302T110000
DTEND;TZID=Europe/London:20250302T120000
DTSTAMP:20260421T061018Z
UID:10207082025-03-02 11:00:00+00:00achurchnearyou
CATEGORIES:
DESCRIPTION:Traditional Morning Prayer (Common Worship) with hymns
GEO:0.897444;52.122634
LOCATION:Hitcham\, All Saints
URL:https://www.achurchnearyou.com/church/2154/service-and-events/events/1
 020708/
END:VEVENT
BEGIN:VEVENT
SUMMARY:Morning Prayer
DTSTART;TZID=Europe/London:20250406T110000
DTEND;TZID=Europe/London:20250406T120000
DTSTAMP:20260421T061018Z
UID:10207082025-04-06 11:00:00+01:00achurchnearyou
CATEGORIES:
DESCRIPTION:Traditional Morning Prayer (Common Worship) with hymns
GEO:0.897444;52.122634
LOCATION:Hitcham\, All Saints
URL:https://www.achurchnearyou.com/church/2154/service-and-events/events/1
 020708/
END:VEVENT
BEGIN:VEVENT
SUMMARY:Morning Prayer
DTSTART;TZID=Europe/London:20250504T110000
DTEND;TZID=Europe/London:20250504T120000
DTSTAMP:20260421T061018Z
UID:10207082025-05-04 11:00:00+01:00achurchnearyou
CATEGORIES:
DESCRIPTION:Traditional Morning Prayer (Common Worship) with hymns
GEO:0.897444;52.122634
LOCATION:Hitcham\, All Saints
URL:https://www.achurchnearyou.com/church/2154/service-and-events/events/1
 020708/
END:VEVENT
BEGIN:VEVENT
SUMMARY:Morning Prayer
DTSTART;TZID=Europe/London:20250601T110000
DTEND;TZID=Europe/London:20250601T120000
DTSTAMP:20260421T061018Z
UID:10207082025-06-01 11:00:00+01:00achurchnearyou
CATEGORIES:
DESCRIPTION:Traditional Morning Prayer (Common Worship) with hymns
GEO:0.897444;52.122634
LOCATION:Hitcham\, All Saints
URL:https://www.achurchnearyou.com/church/2154/service-and-events/events/1
 020708/
END:VEVENT
BEGIN:VEVENT
SUMMARY:Morning Prayer
DTSTART;TZID=Europe/London:20250706T110000
DTEND;TZID=Europe/London:20250706T120000
DTSTAMP:20260421T061018Z
UID:10207082025-07-06 11:00:00+01:00achurchnearyou
CATEGORIES:
DESCRIPTION:Traditional Morning Prayer (Common Worship) with hymns
GEO:0.897444;52.122634
LOCATION:Hitcham\, All Saints
URL:https://www.achurchnearyou.com/church/2154/service-and-events/events/1
 020708/
END:VEVENT
BEGIN:VEVENT
SUMMARY:Morning Prayer
DTSTART;TZID=Europe/London:20250803T110000
DTEND;TZID=Europe/London:20250803T120000
DTSTAMP:20260421T061018Z
UID:10207082025-08-03 11:00:00+01:00achurchnearyou
CATEGORIES:
DESCRIPTION:Traditional Morning Prayer (Common Worship) with hymns
GEO:0.897444;52.122634
LOCATION:Hitcham\, All Saints
URL:https://www.achurchnearyou.com/church/2154/service-and-events/events/1
 020708/
END:VEVENT
BEGIN:VEVENT
SUMMARY:Morning Prayer
DTSTART;TZID=Europe/London:20250907T110000
DTEND;TZID=Europe/London:20250907T120000
DTSTAMP:20260421T061018Z
UID:10207082025-09-07 11:00:00+01:00achurchnearyou
CATEGORIES:
DESCRIPTION:Traditional Morning Prayer (Common Worship) with hymns
GEO:0.897444;52.122634
LOCATION:Hitcham\, All Saints
URL:https://www.achurchnearyou.com/church/2154/service-and-events/events/1
 020708/
END:VEVENT
BEGIN:VEVENT
SUMMARY:Morning Prayer
DTSTART;TZID=Europe/London:20251005T110000
DTEND;TZID=Europe/London:20251005T120000
DTSTAMP:20260421T061018Z
UID:10207082025-10-05 11:00:00+01:00achurchnearyou
CATEGORIES:
DESCRIPTION:Traditional Morning Prayer (Common Worship) with hymns
GEO:0.897444;52.122634
LOCATION:Hitcham\, All Saints
URL:https://www.achurchnearyou.com/church/2154/service-and-events/events/1
 020708/
END:VEVENT
BEGIN:VEVENT
SUMMARY:Morning Prayer
DTSTART;TZID=Europe/London:20251102T110000
DTEND;TZID=Europe/London:20251102T120000
DTSTAMP:20260421T061018Z
UID:10207082025-11-02 11:00:00+00:00achurchnearyou
CATEGORIES:
DESCRIPTION:Traditional Morning Prayer (Common Worship) with hymns
GEO:0.897444;52.122634
LOCATION:Hitcham\, All Saints
URL:https://www.achurchnearyou.com/church/2154/service-and-events/events/1
 020708/
END:VEVENT
BEGIN:VEVENT
SUMMARY:Morning Prayer
DTSTART;TZID=Europe/London:20251207T110000
DTEND;TZID=Europe/London:20251207T120000
DTSTAMP:20260421T061018Z
UID:10207082025-12-07 11:00:00+00:00achurchnearyou
CATEGORIES:
DESCRIPTION:Traditional Morning Prayer (Common Worship) with hymns
GEO:0.897444;52.122634
LOCATION:Hitcham\, All Saints
URL:https://www.achurchnearyou.com/church/2154/service-and-events/events/1
 020708/
END:VEVENT
BEGIN:VEVENT
SUMMARY:Morning Prayer
DTSTART;TZID=Europe/London:20260104T110000
DTEND;TZID=Europe/London:20260104T120000
DTSTAMP:20260421T061018Z
UID:10207082026-01-04 11:00:00+00:00achurchnearyou
CATEGORIES:
DESCRIPTION:Traditional Morning Prayer (Common Worship) with hymns
GEO:0.897444;52.122634
LOCATION:Hitcham\, All Saints
URL:https://www.achurchnearyou.com/church/2154/service-and-events/events/1
 020708/
END:VEVENT
BEGIN:VEVENT
SUMMARY:Morning Prayer
DTSTART;TZID=Europe/London:20260201T110000
DTEND;TZID=Europe/London:20260201T120000
DTSTAMP:20260421T061018Z
UID:10207082026-02-01 11:00:00+00:00achurchnearyou
CATEGORIES:
DESCRIPTION:Traditional Morning Prayer (Common Worship) with hymns
GEO:0.897444;52.122634
LOCATION:Hitcham\, All Saints
URL:https://www.achurchnearyou.com/church/2154/service-and-events/events/1
 020708/
END:VEVENT
BEGIN:VEVENT
SUMMARY:Morning Prayer
DTSTART;TZID=Europe/London:20260301T110000
DTEND;TZID=Europe/London:20260301T120000
DTSTAMP:20260421T061018Z
UID:10207082026-03-01 11:00:00+00:00achurchnearyou
CATEGORIES:
DESCRIPTION:Traditional Morning Prayer (Common Worship) with hymns
GEO:0.897444;52.122634
LOCATION:Hitcham\, All Saints
URL:https://www.achurchnearyou.com/church/2154/service-and-events/events/1
 020708/
END:VEVENT
BEGIN:VEVENT
SUMMARY:Morning Prayer
DTSTART;TZID=Europe/London:20260405T110000
DTEND;TZID=Europe/London:20260405T120000
DTSTAMP:20260421T061018Z
UID:10207082026-04-05 11:00:00+01:00achurchnearyou
CATEGORIES:
DESCRIPTION:Traditional Morning Prayer (Common Worship) with hymns
GEO:0.897444;52.122634
LOCATION:Hitcham\, All Saints
URL:https://www.achurchnearyou.com/church/2154/service-and-events/events/1
 020708/
END:VEVENT
BEGIN:VEVENT
SUMMARY:Morning Prayer
DTSTART;TZID=Europe/London:20260503T110000
DTEND;TZID=Europe/London:20260503T120000
DTSTAMP:20260421T061018Z
UID:10207082026-05-03 11:00:00+01:00achurchnearyou
CATEGORIES:
DESCRIPTION:Traditional Morning Prayer (Common Worship) with hymns
GEO:0.897444;52.122634
LOCATION:Hitcham\, All Saints
URL:https://www.achurchnearyou.com/church/2154/service-and-events/events/1
 020708/
END:VEVENT
BEGIN:VEVENT
SUMMARY:Morning Prayer
DTSTART;TZID=Europe/London:20260607T110000
DTEND;TZID=Europe/London:20260607T120000
DTSTAMP:20260421T061018Z
UID:10207082026-06-07 11:00:00+01:00achurchnearyou
CATEGORIES:
DESCRIPTION:Traditional Morning Prayer (Common Worship) with hymns
GEO:0.897444;52.122634
LOCATION:Hitcham\, All Saints
URL:https://www.achurchnearyou.com/church/2154/service-and-events/events/1
 020708/
END:VEVENT
BEGIN:VEVENT
SUMMARY:Morning Prayer
DTSTART;TZID=Europe/London:20260705T110000
DTEND;TZID=Europe/London:20260705T120000
DTSTAMP:20260421T061018Z
UID:10207082026-07-05 11:00:00+01:00achurchnearyou
CATEGORIES:
DESCRIPTION:Traditional Morning Prayer (Common Worship) with hymns
GEO:0.897444;52.122634
LOCATION:Hitcham\, All Saints
URL:https://www.achurchnearyou.com/church/2154/service-and-events/events/1
 020708/
END:VEVENT
BEGIN:VEVENT
SUMMARY:Morning Prayer
DTSTART;TZID=Europe/London:20260802T110000
DTEND;TZID=Europe/London:20260802T120000
DTSTAMP:20260421T061018Z
UID:10207082026-08-02 11:00:00+01:00achurchnearyou
CATEGORIES:
DESCRIPTION:Traditional Morning Prayer (Common Worship) with hymns
GEO:0.897444;52.122634
LOCATION:Hitcham\, All Saints
URL:https://www.achurchnearyou.com/church/2154/service-and-events/events/1
 020708/
END:VEVENT
BEGIN:VEVENT
SUMMARY:Morning Prayer
DTSTART;TZID=Europe/London:20260906T110000
DTEND;TZID=Europe/London:20260906T120000
DTSTAMP:20260421T061018Z
UID:10207082026-09-06 11:00:00+01:00achurchnearyou
CATEGORIES:
DESCRIPTION:Traditional Morning Prayer (Common Worship) with hymns
GEO:0.897444;52.122634
LOCATION:Hitcham\, All Saints
URL:https://www.achurchnearyou.com/church/2154/service-and-events/events/1
 020708/
END:VEVENT
BEGIN:VEVENT
SUMMARY:Morning Prayer
DTSTART;TZID=Europe/London:20261004T110000
DTEND;TZID=Europe/London:20261004T120000
DTSTAMP:20260421T061018Z
UID:10207082026-10-04 11:00:00+01:00achurchnearyou
CATEGORIES:
DESCRIPTION:Traditional Morning Prayer (Common Worship) with hymns
GEO:0.897444;52.122634
LOCATION:Hitcham\, All Saints
URL:https://www.achurchnearyou.com/church/2154/service-and-events/events/1
 020708/
END:VEVENT
BEGIN:VEVENT
SUMMARY:Morning Prayer
DTSTART;TZID=Europe/London:20261101T110000
DTEND;TZID=Europe/London:20261101T120000
DTSTAMP:20260421T061018Z
UID:10207082026-11-01 11:00:00+00:00achurchnearyou
CATEGORIES:
DESCRIPTION:Traditional Morning Prayer (Common Worship) with hymns
GEO:0.897444;52.122634
LOCATION:Hitcham\, All Saints
URL:https://www.achurchnearyou.com/church/2154/service-and-events/events/1
 020708/
END:VEVENT
BEGIN:VEVENT
SUMMARY:Morning Prayer
DTSTART;TZID=Europe/London:20261206T110000
DTEND;TZID=Europe/London:20261206T120000
DTSTAMP:20260421T061018Z
UID:10207082026-12-06 11:00:00+00:00achurchnearyou
CATEGORIES:
DESCRIPTION:Traditional Morning Prayer (Common Worship) with hymns
GEO:0.897444;52.122634
LOCATION:Hitcham\, All Saints
URL:https://www.achurchnearyou.com/church/2154/service-and-events/events/1
 020708/
END:VEVENT
BEGIN:VEVENT
SUMMARY:Morning Prayer
DTSTART;TZID=Europe/London:20270103T110000
DTEND;TZID=Europe/London:20270103T120000
DTSTAMP:20260421T061018Z
UID:10207082027-01-03 11:00:00+00:00achurchnearyou
CATEGORIES:
DESCRIPTION:Traditional Morning Prayer (Common Worship) with hymns
GEO:0.897444;52.122634
LOCATION:Hitcham\, All Saints
URL:https://www.achurchnearyou.com/church/2154/service-and-events/events/1
 020708/
END:VEVENT
BEGIN:VEVENT
SUMMARY:Morning Prayer
DTSTART;TZID=Europe/London:20270207T110000
DTEND;TZID=Europe/London:20270207T120000
DTSTAMP:20260421T061018Z
UID:10207082027-02-07 11:00:00+00:00achurchnearyou
CATEGORIES:
DESCRIPTION:Traditional Morning Prayer (Common Worship) with hymns
GEO:0.897444;52.122634
LOCATION:Hitcham\, All Saints
URL:https://www.achurchnearyou.com/church/2154/service-and-events/events/1
 020708/
END:VEVENT
BEGIN:VEVENT
SUMMARY:Morning Prayer
DTSTART;TZID=Europe/London:20270307T110000
DTEND;TZID=Europe/London:20270307T120000
DTSTAMP:20260421T061018Z
UID:10207082027-03-07 11:00:00+00:00achurchnearyou
CATEGORIES:
DESCRIPTION:Traditional Morning Prayer (Common Worship) with hymns
GEO:0.897444;52.122634
LOCATION:Hitcham\, All Saints
URL:https://www.achurchnearyou.com/church/2154/service-and-events/events/1
 020708/
END:VEVENT
BEGIN:VEVENT
SUMMARY:Morning Prayer
DTSTART;TZID=Europe/London:20270404T110000
DTEND;TZID=Europe/London:20270404T120000
DTSTAMP:20260421T061018Z
UID:10207082027-04-04 11:00:00+01:00achurchnearyou
CATEGORIES:
DESCRIPTION:Traditional Morning Prayer (Common Worship) with hymns
GEO:0.897444;52.122634
LOCATION:Hitcham\, All Saints
URL:https://www.achurchnearyou.com/church/2154/service-and-events/events/1
 020708/
END:VEVENT
END:VCALENDAR
