BEGIN:VCALENDAR
VERSION:2.0
PRODID:-//achurchnearyou.com//eventfeed//EN
CALSCALE:GREGORIAN
METHOD:PUBLISH
X-WR-TIMEZONE:UTC
BEGIN:VEVENT
SUMMARY:Rainbows & Robins
DTSTART;TZID=Europe/London:20240918T100000
DTEND;TZID=Europe/London:20240918T120000
DTSTAMP:20260421T061200Z
UID:10872112024-09-18 10:00:00+01:00achurchnearyou
CATEGORIES:
DESCRIPTION:A monthly gathering for adults who are grieving. Not counselin
 g or therapy\, but a friendly\, supportive social time\, where you can sha
 re your journey with others who are also bereaved. With occasional expert 
 talks.
LOCATION:Rattlesden\, St Nicholas
URL:https://www.achurchnearyou.com/church/2154/service-and-events/events/1
 087211/
END:VEVENT
BEGIN:VEVENT
SUMMARY:Rainbows & Robins
DTSTART;TZID=Europe/London:20241016T100000
DTEND;TZID=Europe/London:20241016T120000
DTSTAMP:20260421T061200Z
UID:10872112024-10-16 10:00:00+01:00achurchnearyou
CATEGORIES:
DESCRIPTION:A monthly gathering for adults who are grieving. Not counselin
 g or therapy\, but a friendly\, supportive social time\, where you can sha
 re your journey with others who are also bereaved. With occasional expert 
 talks.
LOCATION:Rattlesden\, St Nicholas
URL:https://www.achurchnearyou.com/church/2154/service-and-events/events/1
 087211/
END:VEVENT
BEGIN:VEVENT
SUMMARY:Rainbows & Robins
DTSTART;TZID=Europe/London:20241120T100000
DTEND;TZID=Europe/London:20241120T120000
DTSTAMP:20260421T061200Z
UID:10872112024-11-20 10:00:00+00:00achurchnearyou
CATEGORIES:
DESCRIPTION:A monthly gathering for adults who are grieving. Not counselin
 g or therapy\, but a friendly\, supportive social time\, where you can sha
 re your journey with others who are also bereaved. With occasional expert 
 talks.
LOCATION:Rattlesden\, St Nicholas
URL:https://www.achurchnearyou.com/church/2154/service-and-events/events/1
 087211/
END:VEVENT
BEGIN:VEVENT
SUMMARY:Rainbows & Robins
DTSTART;TZID=Europe/London:20241218T100000
DTEND;TZID=Europe/London:20241218T120000
DTSTAMP:20260421T061200Z
UID:10872112024-12-18 10:00:00+00:00achurchnearyou
CATEGORIES:
DESCRIPTION:A monthly gathering for adults who are grieving. Not counselin
 g or therapy\, but a friendly\, supportive social time\, where you can sha
 re your journey with others who are also bereaved. With occasional expert 
 talks.
LOCATION:Rattlesden\, St Nicholas
URL:https://www.achurchnearyou.com/church/2154/service-and-events/events/1
 087211/
END:VEVENT
BEGIN:VEVENT
SUMMARY:Rainbows & Robins
DTSTART;TZID=Europe/London:20250115T100000
DTEND;TZID=Europe/London:20250115T120000
DTSTAMP:20260421T061200Z
UID:10872112025-01-15 10:00:00+00:00achurchnearyou
CATEGORIES:
DESCRIPTION:A monthly gathering for adults who are grieving. Not counselin
 g or therapy\, but a friendly\, supportive social time\, where you can sha
 re your journey with others who are also bereaved. With occasional expert 
 talks.
LOCATION:Rattlesden\, St Nicholas
URL:https://www.achurchnearyou.com/church/2154/service-and-events/events/1
 087211/
END:VEVENT
BEGIN:VEVENT
SUMMARY:Rainbows & Robins
DTSTART;TZID=Europe/London:20250219T100000
DTEND;TZID=Europe/London:20250219T120000
DTSTAMP:20260421T061200Z
UID:10872112025-02-19 10:00:00+00:00achurchnearyou
CATEGORIES:
DESCRIPTION:A monthly gathering for adults who are grieving. Not counselin
 g or therapy\, but a friendly\, supportive social time\, where you can sha
 re your journey with others who are also bereaved. With occasional expert 
 talks.
LOCATION:Rattlesden\, St Nicholas
URL:https://www.achurchnearyou.com/church/2154/service-and-events/events/1
 087211/
END:VEVENT
BEGIN:VEVENT
SUMMARY:Rainbows & Robins
DTSTART;TZID=Europe/London:20250319T100000
DTEND;TZID=Europe/London:20250319T120000
DTSTAMP:20260421T061200Z
UID:10872112025-03-19 10:00:00+00:00achurchnearyou
CATEGORIES:
DESCRIPTION:A monthly gathering for adults who are grieving. Not counselin
 g or therapy\, but a friendly\, supportive social time\, where you can sha
 re your journey with others who are also bereaved. With occasional expert 
 talks.
LOCATION:Rattlesden\, St Nicholas
URL:https://www.achurchnearyou.com/church/2154/service-and-events/events/1
 087211/
END:VEVENT
BEGIN:VEVENT
SUMMARY:Rainbows & Robins
DTSTART;TZID=Europe/London:20250416T100000
DTEND;TZID=Europe/London:20250416T120000
DTSTAMP:20260421T061200Z
UID:10872112025-04-16 10:00:00+01:00achurchnearyou
CATEGORIES:
DESCRIPTION:A monthly gathering for adults who are grieving. Not counselin
 g or therapy\, but a friendly\, supportive social time\, where you can sha
 re your journey with others who are also bereaved. With occasional expert 
 talks.
LOCATION:Rattlesden\, St Nicholas
URL:https://www.achurchnearyou.com/church/2154/service-and-events/events/1
 087211/
END:VEVENT
BEGIN:VEVENT
SUMMARY:Rainbows & Robins
DTSTART;TZID=Europe/London:20250521T100000
DTEND;TZID=Europe/London:20250521T120000
DTSTAMP:20260421T061200Z
UID:10872112025-05-21 10:00:00+01:00achurchnearyou
CATEGORIES:
DESCRIPTION:A monthly gathering for adults who are grieving. Not counselin
 g or therapy\, but a friendly\, supportive social time\, where you can sha
 re your journey with others who are also bereaved. With occasional expert 
 talks.
LOCATION:Rattlesden\, St Nicholas
URL:https://www.achurchnearyou.com/church/2154/service-and-events/events/1
 087211/
END:VEVENT
BEGIN:VEVENT
SUMMARY:Rainbows & Robins
DTSTART;TZID=Europe/London:20250618T100000
DTEND;TZID=Europe/London:20250618T120000
DTSTAMP:20260421T061200Z
UID:10872112025-06-18 10:00:00+01:00achurchnearyou
CATEGORIES:
DESCRIPTION:A monthly gathering for adults who are grieving. Not counselin
 g or therapy\, but a friendly\, supportive social time\, where you can sha
 re your journey with others who are also bereaved. With occasional expert 
 talks.
LOCATION:Rattlesden\, St Nicholas
URL:https://www.achurchnearyou.com/church/2154/service-and-events/events/1
 087211/
END:VEVENT
BEGIN:VEVENT
SUMMARY:Rainbows & Robins
DTSTART;TZID=Europe/London:20250716T100000
DTEND;TZID=Europe/London:20250716T120000
DTSTAMP:20260421T061200Z
UID:10872112025-07-16 10:00:00+01:00achurchnearyou
CATEGORIES:
DESCRIPTION:A monthly gathering for adults who are grieving. Not counselin
 g or therapy\, but a friendly\, supportive social time\, where you can sha
 re your journey with others who are also bereaved. With occasional expert 
 talks.
LOCATION:Rattlesden\, St Nicholas
URL:https://www.achurchnearyou.com/church/2154/service-and-events/events/1
 087211/
END:VEVENT
BEGIN:VEVENT
SUMMARY:Rainbows & Robins
DTSTART;TZID=Europe/London:20250820T100000
DTEND;TZID=Europe/London:20250820T120000
DTSTAMP:20260421T061200Z
UID:10872112025-08-20 10:00:00+01:00achurchnearyou
CATEGORIES:
DESCRIPTION:A monthly gathering for adults who are grieving. Not counselin
 g or therapy\, but a friendly\, supportive social time\, where you can sha
 re your journey with others who are also bereaved. With occasional expert 
 talks.
LOCATION:Rattlesden\, St Nicholas
URL:https://www.achurchnearyou.com/church/2154/service-and-events/events/1
 087211/
END:VEVENT
BEGIN:VEVENT
SUMMARY:Rainbows & Robins
DTSTART;TZID=Europe/London:20250917T100000
DTEND;TZID=Europe/London:20250917T120000
DTSTAMP:20260421T061200Z
UID:10872112025-09-17 10:00:00+01:00achurchnearyou
CATEGORIES:
DESCRIPTION:A monthly gathering for adults who are grieving. Not counselin
 g or therapy\, but a friendly\, supportive social time\, where you can sha
 re your journey with others who are also bereaved. With occasional expert 
 talks.
LOCATION:Rattlesden\, St Nicholas
URL:https://www.achurchnearyou.com/church/2154/service-and-events/events/1
 087211/
END:VEVENT
BEGIN:VEVENT
SUMMARY:Rainbows & Robins
DTSTART;TZID=Europe/London:20251015T100000
DTEND;TZID=Europe/London:20251015T120000
DTSTAMP:20260421T061200Z
UID:10872112025-10-15 10:00:00+01:00achurchnearyou
CATEGORIES:
DESCRIPTION:A monthly gathering for adults who are grieving. Not counselin
 g or therapy\, but a friendly\, supportive social time\, where you can sha
 re your journey with others who are also bereaved. With occasional expert 
 talks.
LOCATION:Rattlesden\, St Nicholas
URL:https://www.achurchnearyou.com/church/2154/service-and-events/events/1
 087211/
END:VEVENT
BEGIN:VEVENT
SUMMARY:Rainbows & Robins
DTSTART;TZID=Europe/London:20251119T100000
DTEND;TZID=Europe/London:20251119T120000
DTSTAMP:20260421T061200Z
UID:10872112025-11-19 10:00:00+00:00achurchnearyou
CATEGORIES:
DESCRIPTION:A monthly gathering for adults who are grieving. Not counselin
 g or therapy\, but a friendly\, supportive social time\, where you can sha
 re your journey with others who are also bereaved. With occasional expert 
 talks.
LOCATION:Rattlesden\, St Nicholas
URL:https://www.achurchnearyou.com/church/2154/service-and-events/events/1
 087211/
END:VEVENT
BEGIN:VEVENT
SUMMARY:Rainbows & Robins
DTSTART;TZID=Europe/London:20251217T100000
DTEND;TZID=Europe/London:20251217T120000
DTSTAMP:20260421T061200Z
UID:10872112025-12-17 10:00:00+00:00achurchnearyou
CATEGORIES:
DESCRIPTION:A monthly gathering for adults who are grieving. Not counselin
 g or therapy\, but a friendly\, supportive social time\, where you can sha
 re your journey with others who are also bereaved. With occasional expert 
 talks.
LOCATION:Rattlesden\, St Nicholas
URL:https://www.achurchnearyou.com/church/2154/service-and-events/events/1
 087211/
END:VEVENT
BEGIN:VEVENT
SUMMARY:Rainbows & Robins
DTSTART;TZID=Europe/London:20260121T100000
DTEND;TZID=Europe/London:20260121T120000
DTSTAMP:20260421T061200Z
UID:10872112026-01-21 10:00:00+00:00achurchnearyou
CATEGORIES:
DESCRIPTION:A monthly gathering for adults who are grieving. Not counselin
 g or therapy\, but a friendly\, supportive social time\, where you can sha
 re your journey with others who are also bereaved. With occasional expert 
 talks.
LOCATION:Rattlesden\, St Nicholas
URL:https://www.achurchnearyou.com/church/2154/service-and-events/events/1
 087211/
END:VEVENT
BEGIN:VEVENT
SUMMARY:Rainbows & Robins
DTSTART;TZID=Europe/London:20260218T100000
DTEND;TZID=Europe/London:20260218T120000
DTSTAMP:20260421T061200Z
UID:10872112026-02-18 10:00:00+00:00achurchnearyou
CATEGORIES:
DESCRIPTION:A monthly gathering for adults who are grieving. Not counselin
 g or therapy\, but a friendly\, supportive social time\, where you can sha
 re your journey with others who are also bereaved. With occasional expert 
 talks.
LOCATION:Rattlesden\, St Nicholas
URL:https://www.achurchnearyou.com/church/2154/service-and-events/events/1
 087211/
END:VEVENT
BEGIN:VEVENT
SUMMARY:Rainbows & Robins
DTSTART;TZID=Europe/London:20260318T100000
DTEND;TZID=Europe/London:20260318T120000
DTSTAMP:20260421T061200Z
UID:10872112026-03-18 10:00:00+00:00achurchnearyou
CATEGORIES:
DESCRIPTION:A monthly gathering for adults who are grieving. Not counselin
 g or therapy\, but a friendly\, supportive social time\, where you can sha
 re your journey with others who are also bereaved. With occasional expert 
 talks.
LOCATION:Rattlesden\, St Nicholas
URL:https://www.achurchnearyou.com/church/2154/service-and-events/events/1
 087211/
END:VEVENT
BEGIN:VEVENT
SUMMARY:Rainbows & Robins
DTSTART;TZID=Europe/London:20260415T100000
DTEND;TZID=Europe/London:20260415T120000
DTSTAMP:20260421T061200Z
UID:10872112026-04-15 10:00:00+01:00achurchnearyou
CATEGORIES:
DESCRIPTION:A monthly gathering for adults who are grieving. Not counselin
 g or therapy\, but a friendly\, supportive social time\, where you can sha
 re your journey with others who are also bereaved. With occasional expert 
 talks.
LOCATION:Rattlesden\, St Nicholas
URL:https://www.achurchnearyou.com/church/2154/service-and-events/events/1
 087211/
END:VEVENT
BEGIN:VEVENT
SUMMARY:Rainbows & Robins
DTSTART;TZID=Europe/London:20260520T100000
DTEND;TZID=Europe/London:20260520T120000
DTSTAMP:20260421T061200Z
UID:10872112026-05-20 10:00:00+01:00achurchnearyou
CATEGORIES:
DESCRIPTION:A monthly gathering for adults who are grieving. Not counselin
 g or therapy\, but a friendly\, supportive social time\, where you can sha
 re your journey with others who are also bereaved. With occasional expert 
 talks.
LOCATION:Rattlesden\, St Nicholas
URL:https://www.achurchnearyou.com/church/2154/service-and-events/events/1
 087211/
END:VEVENT
BEGIN:VEVENT
SUMMARY:Rainbows & Robins
DTSTART;TZID=Europe/London:20260617T100000
DTEND;TZID=Europe/London:20260617T120000
DTSTAMP:20260421T061200Z
UID:10872112026-06-17 10:00:00+01:00achurchnearyou
CATEGORIES:
DESCRIPTION:A monthly gathering for adults who are grieving. Not counselin
 g or therapy\, but a friendly\, supportive social time\, where you can sha
 re your journey with others who are also bereaved. With occasional expert 
 talks.
LOCATION:Rattlesden\, St Nicholas
URL:https://www.achurchnearyou.com/church/2154/service-and-events/events/1
 087211/
END:VEVENT
BEGIN:VEVENT
SUMMARY:Rainbows & Robins
DTSTART;TZID=Europe/London:20260715T100000
DTEND;TZID=Europe/London:20260715T120000
DTSTAMP:20260421T061200Z
UID:10872112026-07-15 10:00:00+01:00achurchnearyou
CATEGORIES:
DESCRIPTION:A monthly gathering for adults who are grieving. Not counselin
 g or therapy\, but a friendly\, supportive social time\, where you can sha
 re your journey with others who are also bereaved. With occasional expert 
 talks.
LOCATION:Rattlesden\, St Nicholas
URL:https://www.achurchnearyou.com/church/2154/service-and-events/events/1
 087211/
END:VEVENT
BEGIN:VEVENT
SUMMARY:Rainbows & Robins
DTSTART;TZID=Europe/London:20260819T100000
DTEND;TZID=Europe/London:20260819T120000
DTSTAMP:20260421T061200Z
UID:10872112026-08-19 10:00:00+01:00achurchnearyou
CATEGORIES:
DESCRIPTION:A monthly gathering for adults who are grieving. Not counselin
 g or therapy\, but a friendly\, supportive social time\, where you can sha
 re your journey with others who are also bereaved. With occasional expert 
 talks.
LOCATION:Rattlesden\, St Nicholas
URL:https://www.achurchnearyou.com/church/2154/service-and-events/events/1
 087211/
END:VEVENT
BEGIN:VEVENT
SUMMARY:Rainbows & Robins
DTSTART;TZID=Europe/London:20260916T100000
DTEND;TZID=Europe/London:20260916T120000
DTSTAMP:20260421T061200Z
UID:10872112026-09-16 10:00:00+01:00achurchnearyou
CATEGORIES:
DESCRIPTION:A monthly gathering for adults who are grieving. Not counselin
 g or therapy\, but a friendly\, supportive social time\, where you can sha
 re your journey with others who are also bereaved. With occasional expert 
 talks.
LOCATION:Rattlesden\, St Nicholas
URL:https://www.achurchnearyou.com/church/2154/service-and-events/events/1
 087211/
END:VEVENT
BEGIN:VEVENT
SUMMARY:Rainbows & Robins
DTSTART;TZID=Europe/London:20261021T100000
DTEND;TZID=Europe/London:20261021T120000
DTSTAMP:20260421T061200Z
UID:10872112026-10-21 10:00:00+01:00achurchnearyou
CATEGORIES:
DESCRIPTION:A monthly gathering for adults who are grieving. Not counselin
 g or therapy\, but a friendly\, supportive social time\, where you can sha
 re your journey with others who are also bereaved. With occasional expert 
 talks.
LOCATION:Rattlesden\, St Nicholas
URL:https://www.achurchnearyou.com/church/2154/service-and-events/events/1
 087211/
END:VEVENT
BEGIN:VEVENT
SUMMARY:Rainbows & Robins
DTSTART;TZID=Europe/London:20261118T100000
DTEND;TZID=Europe/London:20261118T120000
DTSTAMP:20260421T061200Z
UID:10872112026-11-18 10:00:00+00:00achurchnearyou
CATEGORIES:
DESCRIPTION:A monthly gathering for adults who are grieving. Not counselin
 g or therapy\, but a friendly\, supportive social time\, where you can sha
 re your journey with others who are also bereaved. With occasional expert 
 talks.
LOCATION:Rattlesden\, St Nicholas
URL:https://www.achurchnearyou.com/church/2154/service-and-events/events/1
 087211/
END:VEVENT
BEGIN:VEVENT
SUMMARY:Rainbows & Robins
DTSTART;TZID=Europe/London:20261216T100000
DTEND;TZID=Europe/London:20261216T120000
DTSTAMP:20260421T061200Z
UID:10872112026-12-16 10:00:00+00:00achurchnearyou
CATEGORIES:
DESCRIPTION:A monthly gathering for adults who are grieving. Not counselin
 g or therapy\, but a friendly\, supportive social time\, where you can sha
 re your journey with others who are also bereaved. With occasional expert 
 talks.
LOCATION:Rattlesden\, St Nicholas
URL:https://www.achurchnearyou.com/church/2154/service-and-events/events/1
 087211/
END:VEVENT
BEGIN:VEVENT
SUMMARY:Rainbows & Robins
DTSTART;TZID=Europe/London:20270120T100000
DTEND;TZID=Europe/London:20270120T120000
DTSTAMP:20260421T061200Z
UID:10872112027-01-20 10:00:00+00:00achurchnearyou
CATEGORIES:
DESCRIPTION:A monthly gathering for adults who are grieving. Not counselin
 g or therapy\, but a friendly\, supportive social time\, where you can sha
 re your journey with others who are also bereaved. With occasional expert 
 talks.
LOCATION:Rattlesden\, St Nicholas
URL:https://www.achurchnearyou.com/church/2154/service-and-events/events/1
 087211/
END:VEVENT
BEGIN:VEVENT
SUMMARY:Rainbows & Robins
DTSTART;TZID=Europe/London:20270217T100000
DTEND;TZID=Europe/London:20270217T120000
DTSTAMP:20260421T061200Z
UID:10872112027-02-17 10:00:00+00:00achurchnearyou
CATEGORIES:
DESCRIPTION:A monthly gathering for adults who are grieving. Not counselin
 g or therapy\, but a friendly\, supportive social time\, where you can sha
 re your journey with others who are also bereaved. With occasional expert 
 talks.
LOCATION:Rattlesden\, St Nicholas
URL:https://www.achurchnearyou.com/church/2154/service-and-events/events/1
 087211/
END:VEVENT
BEGIN:VEVENT
SUMMARY:Rainbows & Robins
DTSTART;TZID=Europe/London:20270317T100000
DTEND;TZID=Europe/London:20270317T120000
DTSTAMP:20260421T061200Z
UID:10872112027-03-17 10:00:00+00:00achurchnearyou
CATEGORIES:
DESCRIPTION:A monthly gathering for adults who are grieving. Not counselin
 g or therapy\, but a friendly\, supportive social time\, where you can sha
 re your journey with others who are also bereaved. With occasional expert 
 talks.
LOCATION:Rattlesden\, St Nicholas
URL:https://www.achurchnearyou.com/church/2154/service-and-events/events/1
 087211/
END:VEVENT
BEGIN:VEVENT
SUMMARY:Rainbows & Robins
DTSTART;TZID=Europe/London:20270421T100000
DTEND;TZID=Europe/London:20270421T120000
DTSTAMP:20260421T061200Z
UID:10872112027-04-21 10:00:00+01:00achurchnearyou
CATEGORIES:
DESCRIPTION:A monthly gathering for adults who are grieving. Not counselin
 g or therapy\, but a friendly\, supportive social time\, where you can sha
 re your journey with others who are also bereaved. With occasional expert 
 talks.
LOCATION:Rattlesden\, St Nicholas
URL:https://www.achurchnearyou.com/church/2154/service-and-events/events/1
 087211/
END:VEVENT
END:VCALENDAR
