BEGIN:VCALENDAR
VERSION:2.0
PRODID:-//achurchnearyou.com//eventfeed//EN
CALSCALE:GREGORIAN
METHOD:PUBLISH
X-WR-TIMEZONE:UTC
BEGIN:VEVENT
SUMMARY:Remembrance Service
DTSTART:20251109T105000Z
DTEND:20251109T115000Z
DTSTAMP:20260421T184208Z
UID:12354992025-11-09 10:50:00+00:00achurchnearyou
CATEGORIES:
DESCRIPTION:Join us to remember the service and sacrifice made by our mili
 tary and civilian servicemen and women.
GEO:0.897444;52.122634
LOCATION:Hitcham\, All Saints
URL:https://www.achurchnearyou.com/church/2154/service-and-events/events/1
 235499/
END:VEVENT
END:VCALENDAR
