BEGIN:VCALENDAR
VERSION:2.0
PRODID:-//achurchnearyou.com//eventfeed//EN
CALSCALE:GREGORIAN
METHOD:PUBLISH
X-WR-TIMEZONE:UTC
BEGIN:VEVENT
SUMMARY:Wednesday of Holy Week - Compline
DTSTART:20250416T184500Z
DTEND:20250416T194500Z
DTSTAMP:20260420T131749Z
UID:11832932025-04-16 18:45:00+00:00achurchnearyou
CATEGORIES:
DESCRIPTION:Join us on a sacred journey this Holy Week\, experience the be
 auty\, reverence and meaning of Holy Week as we worship together.
GEO:0.859262;52.028043
LOCATION:St Mary's\, Boxford
URL:https://www.achurchnearyou.com/church/2190/service-and-events/events/1
 183293/
END:VEVENT
END:VCALENDAR
