BEGIN:VCALENDAR
VERSION:2.0
PRODID:-//achurchnearyou.com//eventfeed//EN
CALSCALE:GREGORIAN
METHOD:PUBLISH
X-WR-TIMEZONE:UTC
BEGIN:VEVENT
SUMMARY:Wattisham Military Wives Choir Concert
DTSTART:20250628T160000Z
DTEND:20250628T180000Z
DTSTAMP:20260420T112359Z
UID:11981992025-06-28 16:00:00+00:00achurchnearyou
CATEGORIES:
DESCRIPTION:Boxford Friendship Group and St Mary's Church presents Wattish
 am Military Wives Choir at St Mary's Church\, Boxford on Saturday\, 28th J
 une at 5pm.\n\nTickets are £10 including refreshments\, available from Al
 ison - 01787 211067 or from Boxford Post Office\n\nThere will be a raffle 
 raising money for Boxford Friendship Group & St Mary's Church
GEO:0.859262;52.028043
LOCATION:St Mary's\, Boxford
URL:https://www.achurchnearyou.com/church/2190/service-and-events/events/1
 198199/
END:VEVENT
END:VCALENDAR
