BEGIN:VCALENDAR
VERSION:2.0
PRODID:-//achurchnearyou.com//eventfeed//EN
CALSCALE:GREGORIAN
METHOD:PUBLISH
X-WR-TIMEZONE:UTC
BEGIN:VEVENT
SUMMARY:Holy Communion
DTSTART;TZID=Europe/London:20260405T080000
DTEND;TZID=Europe/London:20260405T084500
DTSTAMP:20260424T221019Z
UID:9609431775372400.0achurchnearyou
CATEGORIES:
DESCRIPTION:A reflective early service of Holy Communion using Common Wors
 hip Order 1.
GEO:-2.8338209;52.439605
LOCATION:Pilgrim Centre
URL:https://www.achurchnearyou.com/church/21947/service-and-events/events/
 960943/
END:VEVENT
BEGIN:VEVENT
SUMMARY:Holy Communion
DTSTART;TZID=Europe/London:20260419T080000
DTEND;TZID=Europe/London:20260419T084500
DTSTAMP:20260424T221019Z
UID:9609431776582000.0achurchnearyou
CATEGORIES:
DESCRIPTION:A reflective early service of Holy Communion using Common Wors
 hip Order 1.
GEO:-2.8338209;52.439605
LOCATION:Pilgrim Centre
URL:https://www.achurchnearyou.com/church/21947/service-and-events/events/
 960943/
END:VEVENT
BEGIN:VEVENT
SUMMARY:Holy Communion
DTSTART;TZID=Europe/London:20260503T080000
DTEND;TZID=Europe/London:20260503T084500
DTSTAMP:20260424T221019Z
UID:9609431777791600.0achurchnearyou
CATEGORIES:
DESCRIPTION:A reflective early service of Holy Communion using Common Wors
 hip Order 1.
GEO:-2.8338209;52.439605
LOCATION:Pilgrim Centre
URL:https://www.achurchnearyou.com/church/21947/service-and-events/events/
 960943/
END:VEVENT
BEGIN:VEVENT
SUMMARY:Holy Communion
DTSTART;TZID=Europe/London:20260517T080000
DTEND;TZID=Europe/London:20260517T084500
DTSTAMP:20260424T221019Z
UID:9609431779001200.0achurchnearyou
CATEGORIES:
DESCRIPTION:A reflective early service of Holy Communion using Common Wors
 hip Order 1.
GEO:-2.8338209;52.439605
LOCATION:Pilgrim Centre
URL:https://www.achurchnearyou.com/church/21947/service-and-events/events/
 960943/
END:VEVENT
BEGIN:VEVENT
SUMMARY:Holy Communion
DTSTART;TZID=Europe/London:20260607T080000
DTEND;TZID=Europe/London:20260607T084500
DTSTAMP:20260424T221019Z
UID:9609431780815600.0achurchnearyou
CATEGORIES:
DESCRIPTION:A reflective early service of Holy Communion using Common Wors
 hip Order 1.
GEO:-2.8338209;52.439605
LOCATION:Pilgrim Centre
URL:https://www.achurchnearyou.com/church/21947/service-and-events/events/
 960943/
END:VEVENT
BEGIN:VEVENT
SUMMARY:Holy Communion
DTSTART;TZID=Europe/London:20260621T080000
DTEND;TZID=Europe/London:20260621T084500
DTSTAMP:20260424T221019Z
UID:9609431782025200.0achurchnearyou
CATEGORIES:
DESCRIPTION:A reflective early service of Holy Communion using Common Wors
 hip Order 1.
GEO:-2.8338209;52.439605
LOCATION:Pilgrim Centre
URL:https://www.achurchnearyou.com/church/21947/service-and-events/events/
 960943/
END:VEVENT
BEGIN:VEVENT
SUMMARY:Holy Communion
DTSTART;TZID=Europe/London:20260705T080000
DTEND;TZID=Europe/London:20260705T084500
DTSTAMP:20260424T221019Z
UID:9609431783234800.0achurchnearyou
CATEGORIES:
DESCRIPTION:A reflective early service of Holy Communion using Common Wors
 hip Order 1.
GEO:-2.8338209;52.439605
LOCATION:Pilgrim Centre
URL:https://www.achurchnearyou.com/church/21947/service-and-events/events/
 960943/
END:VEVENT
BEGIN:VEVENT
SUMMARY:Holy Communion
DTSTART;TZID=Europe/London:20260719T080000
DTEND;TZID=Europe/London:20260719T084500
DTSTAMP:20260424T221019Z
UID:9609431784444400.0achurchnearyou
CATEGORIES:
DESCRIPTION:A reflective early service of Holy Communion using Common Wors
 hip Order 1.
GEO:-2.8338209;52.439605
LOCATION:Pilgrim Centre
URL:https://www.achurchnearyou.com/church/21947/service-and-events/events/
 960943/
END:VEVENT
BEGIN:VEVENT
SUMMARY:Holy Communion
DTSTART;TZID=Europe/London:20260802T080000
DTEND;TZID=Europe/London:20260802T084500
DTSTAMP:20260424T221019Z
UID:9609431785654000.0achurchnearyou
CATEGORIES:
DESCRIPTION:A reflective early service of Holy Communion using Common Wors
 hip Order 1.
GEO:-2.8338209;52.439605
LOCATION:Pilgrim Centre
URL:https://www.achurchnearyou.com/church/21947/service-and-events/events/
 960943/
END:VEVENT
BEGIN:VEVENT
SUMMARY:Holy Communion
DTSTART;TZID=Europe/London:20260816T080000
DTEND;TZID=Europe/London:20260816T084500
DTSTAMP:20260424T221019Z
UID:9609431786863600.0achurchnearyou
CATEGORIES:
DESCRIPTION:A reflective early service of Holy Communion using Common Wors
 hip Order 1.
GEO:-2.8338209;52.439605
LOCATION:Pilgrim Centre
URL:https://www.achurchnearyou.com/church/21947/service-and-events/events/
 960943/
END:VEVENT
BEGIN:VEVENT
SUMMARY:Holy Communion
DTSTART;TZID=Europe/London:20260906T080000
DTEND;TZID=Europe/London:20260906T084500
DTSTAMP:20260424T221019Z
UID:9609431788678000.0achurchnearyou
CATEGORIES:
DESCRIPTION:A reflective early service of Holy Communion using Common Wors
 hip Order 1.
GEO:-2.8338209;52.439605
LOCATION:Pilgrim Centre
URL:https://www.achurchnearyou.com/church/21947/service-and-events/events/
 960943/
END:VEVENT
BEGIN:VEVENT
SUMMARY:Holy Communion
DTSTART;TZID=Europe/London:20260920T080000
DTEND;TZID=Europe/London:20260920T084500
DTSTAMP:20260424T221019Z
UID:9609431789887600.0achurchnearyou
CATEGORIES:
DESCRIPTION:A reflective early service of Holy Communion using Common Wors
 hip Order 1.
GEO:-2.8338209;52.439605
LOCATION:Pilgrim Centre
URL:https://www.achurchnearyou.com/church/21947/service-and-events/events/
 960943/
END:VEVENT
END:VCALENDAR
