BEGIN:VCALENDAR
VERSION:2.0
PRODID:-//achurchnearyou.com//eventfeed//EN
CALSCALE:GREGORIAN
METHOD:PUBLISH
X-WR-TIMEZONE:UTC
BEGIN:VEVENT
SUMMARY:Evening Prayer at 3 o'clock
DTSTART;TZID=Europe/London:20250119T150000
DTEND;TZID=Europe/London:20250119T152900
DTSTAMP:20260422T155221Z
UID:11462912025-01-19 15:00:00+00:00achurchnearyou
CATEGORIES:
DESCRIPTION:An informal and simple monthly prayer service to close the wee
 kend
LOCATION:St Edmund's\, Hargrave Church
URL:https://www.achurchnearyou.com/church/2209/service-and-events/events/1
 146291/
END:VEVENT
BEGIN:VEVENT
SUMMARY:Evening Prayer at 3 o'clock
DTSTART;TZID=Europe/London:20250216T150000
DTEND;TZID=Europe/London:20250216T152900
DTSTAMP:20260422T155221Z
UID:11462912025-02-16 15:00:00+00:00achurchnearyou
CATEGORIES:
DESCRIPTION:An informal and simple monthly prayer service to close the wee
 kend
LOCATION:St Edmund's\, Hargrave Church
URL:https://www.achurchnearyou.com/church/2209/service-and-events/events/1
 146291/
END:VEVENT
BEGIN:VEVENT
SUMMARY:Evening Prayer at 3 o'clock
DTSTART;TZID=Europe/London:20251116T150000
DTEND;TZID=Europe/London:20251116T152900
DTSTAMP:20260422T155221Z
UID:11462912025-11-16 15:00:00+00:00achurchnearyou
CATEGORIES:
DESCRIPTION:An informal and simple monthly prayer service to close the wee
 kend
LOCATION:St Edmund's\, Hargrave Church
URL:https://www.achurchnearyou.com/church/2209/service-and-events/events/1
 146291/
END:VEVENT
END:VCALENDAR
