BEGIN:VCALENDAR
VERSION:2.0
PRODID:-//achurchnearyou.com//eventfeed//EN
CALSCALE:GREGORIAN
METHOD:PUBLISH
X-WR-TIMEZONE:UTC
BEGIN:VEVENT
SUMMARY:Pop Up Pub
DTSTART:20260320T183000Z
DTEND:20260320T213000Z
DTSTAMP:20260420T055111Z
UID:13063232026-03-20 18:30:00+00:00achurchnearyou
CATEGORIES:
DESCRIPTION:Please join us for Beer\, Cider\, Lager\, Wine and Soft Drinks
 .\nComplimentary Nibbles!\n6.30-9.30pm - last orders 9pm.\nWe will be join
 ed by the Mobile Pizza Co. who will be serving from 8pm.
LOCATION:Hargrave Village Hall
URL:https://www.achurchnearyou.com/church/2209/service-and-events/events/1
 306323/
END:VEVENT
END:VCALENDAR
