BEGIN:VCALENDAR
VERSION:2.0
PRODID:-//achurchnearyou.com//eventfeed//EN
CALSCALE:GREGORIAN
METHOD:PUBLISH
X-WR-TIMEZONE:UTC
BEGIN:VEVENT
SUMMARY:Culford Cafe - in aid of Culford Church
DTSTART:20251129T120000Z
DTEND:20251129T140000Z
DTSTAMP:20260421T011006Z
UID:11673192025-11-29 12:00:00+00:00achurchnearyou
CATEGORIES:
DESCRIPTION:Soup & Roll + Tea / Coffee & Cream Scone\nFestive raffle\nSugg
 ested donations of £10 per person in aid of St Mary's Church\, Culford\nP
 lease join us for the last cafe of 2025.\nGet set for the festive season\n
 Everyone welcome.
LOCATION:Culford Village Hall
URL:https://www.achurchnearyou.com/church/2212/service-and-events/events/1
 167319/
END:VEVENT
END:VCALENDAR
