BEGIN:VCALENDAR
VERSION:2.0
PRODID:-//achurchnearyou.com//eventfeed//EN
CALSCALE:GREGORIAN
METHOD:PUBLISH
X-WR-TIMEZONE:UTC
BEGIN:VEVENT
SUMMARY:Nine Lessons and Carols
DTSTART:20251210T190000Z
DTEND:20251210T194500Z
DTSTAMP:20260420T230517Z
UID:7680812025-12-10 19:00:00+00:00achurchnearyou
CATEGORIES:
DESCRIPTION:Traditional Christmas Carol Service.\nFollowed by mulled wine 
 and mince pies.
GEO:0.687397;52.30021
LOCATION:Culford\, St Mary
URL:https://www.achurchnearyou.com/church/2212/service-and-events/events/7
 68081/
END:VEVENT
END:VCALENDAR
