BEGIN:VCALENDAR
VERSION:2.0
PRODID:-//achurchnearyou.com//eventfeed//EN
CALSCALE:GREGORIAN
METHOD:PUBLISH
X-WR-TIMEZONE:UTC
BEGIN:VEVENT
SUMMARY:Benefice Holy Communion
DTSTART:20250126T100000Z
DTEND:20250126T110000Z
DTSTAMP:20260419T180628Z
UID:11457172025-01-26 10:00:00+00:00achurchnearyou
CATEGORIES:
DESCRIPTION:A service of Holy Communion for the whole Benefice taken by th
 e Rev Nicola
GEO:0.61765;52.234434
LOCATION:St Andrew
URL:https://www.achurchnearyou.com/church/2224/service-and-events/events/1
 145717/
END:VEVENT
END:VCALENDAR
