BEGIN:VCALENDAR
VERSION:2.0
PRODID:-//achurchnearyou.com//eventfeed//EN
CALSCALE:GREGORIAN
METHOD:PUBLISH
X-WR-TIMEZONE:UTC
BEGIN:VEVENT
SUMMARY:Matins
DTSTART:20250126T110000Z
DTEND:20250126T120000Z
DTSTAMP:20260422T161312Z
UID:11517432025-01-26 11:00:00+00:00achurchnearyou
CATEGORIES:
DESCRIPTION:Come and join with us in prayer....
LOCATION:Frostenden\, All Saints
URL:https://www.achurchnearyou.com/church/2265/service-and-events/events/1
 151743/
END:VEVENT
END:VCALENDAR
