BEGIN:VCALENDAR
VERSION:2.0
PRODID:-//achurchnearyou.com//eventfeed//EN
CALSCALE:GREGORIAN
METHOD:PUBLISH
X-WR-TIMEZONE:UTC
BEGIN:VEVENT
SUMMARY:Holy Communion and imposition of ashes
DTSTART:20260218T120000Z
DTEND:20260218T130000Z
DTSTAMP:20260421T133625Z
UID:12935262026-02-18 12:00:00+00:00achurchnearyou
CATEGORIES:
DESCRIPTION:Come and join us this Ash Wednesday as we reflect on the begin
 ning of the Lent season....
GEO:1.656613;52.388553
LOCATION:Wrentham\, St Nicholas
URL:https://www.achurchnearyou.com/church/2265/service-and-events/events/1
 293526/
END:VEVENT
END:VCALENDAR
