BEGIN:VCALENDAR
VERSION:2.0
PRODID:-//achurchnearyou.com//eventfeed//EN
CALSCALE:GREGORIAN
METHOD:PUBLISH
X-WR-TIMEZONE:UTC
BEGIN:VEVENT
SUMMARY:Holy Communion
DTSTART:20260322T093000Z
DTEND:20260322T103000Z
DTSTAMP:20260421T115131Z
UID:13110182026-03-22 09:30:00+00:00achurchnearyou
CATEGORIES:
DESCRIPTION:Come and Worship
LOCATION:St Andrew's
URL:https://www.achurchnearyou.com/church/2265/service-and-events/events/1
 311018/
END:VEVENT
END:VCALENDAR
