BEGIN:VCALENDAR
VERSION:2.0
PRODID:-//achurchnearyou.com//eventfeed//EN
CALSCALE:GREGORIAN
METHOD:PUBLISH
X-WR-TIMEZONE:UTC
BEGIN:VEVENT
SUMMARY:Holy Communion
DTSTART;TZID=Europe/London:20250525T093000
DTEND;TZID=Europe/London:20250525T103000
DTSTAMP:20260422T233312Z
UID:11517392025-05-25 09:30:00+01:00achurchnearyou
CATEGORIES:
DESCRIPTION:Come and worship with us....
GEO:1.705588;52.376787
LOCATION:St Andrew's
URL:https://www.achurchnearyou.com/church/2266/service-and-events/events/1
 151739/
END:VEVENT
BEGIN:VEVENT
SUMMARY:Holy Communion
DTSTART;TZID=Europe/London:20250608T093000
DTEND;TZID=Europe/London:20250608T103000
DTSTAMP:20260422T233312Z
UID:11517392025-06-08 09:30:00+01:00achurchnearyou
CATEGORIES:
DESCRIPTION:Come and worship with us....
GEO:1.705588;52.376787
LOCATION:St Andrew's
URL:https://www.achurchnearyou.com/church/2266/service-and-events/events/1
 151739/
END:VEVENT
BEGIN:VEVENT
SUMMARY:Holy Communion
DTSTART;TZID=Europe/London:20250622T093000
DTEND;TZID=Europe/London:20250622T103000
DTSTAMP:20260422T233312Z
UID:11517392025-06-22 09:30:00+01:00achurchnearyou
CATEGORIES:
DESCRIPTION:Come and worship with us....
GEO:1.705588;52.376787
LOCATION:St Andrew's
URL:https://www.achurchnearyou.com/church/2266/service-and-events/events/1
 151739/
END:VEVENT
END:VCALENDAR
