BEGIN:VCALENDAR
VERSION:2.0
PRODID:-//achurchnearyou.com//eventfeed//EN
CALSCALE:GREGORIAN
METHOD:PUBLISH
X-WR-TIMEZONE:UTC
BEGIN:VEVENT
SUMMARY:Holy Communion
DTSTART:20250907T083000Z
DTEND:20250907T093000Z
DTSTAMP:20260422T180236Z
UID:12226962025-09-07 08:30:00+00:00achurchnearyou
CATEGORIES:
DESCRIPTION:Come and worship with us....
LOCATION:Frostenden\, All Saints
URL:https://www.achurchnearyou.com/church/2266/service-and-events/events/1
 222696/
END:VEVENT
END:VCALENDAR
