BEGIN:VCALENDAR
VERSION:2.0
PRODID:-//achurchnearyou.com//eventfeed//EN
CALSCALE:GREGORIAN
METHOD:PUBLISH
X-WR-TIMEZONE:UTC
BEGIN:VEVENT
SUMMARY:7 September 2025
DTSTART:20250907T100000Z
DTEND:20250907T110000Z
DTSTAMP:20260422T121115Z
UID:12101242025-09-07 10:00:00+00:00achurchnearyou
CATEGORIES:
DESCRIPTION:Family Service
LOCATION:Bledlow Ridge St Paul
URL:https://www.achurchnearyou.com/church/227/service-and-events/events/12
 10124/
END:VEVENT
END:VCALENDAR
