BEGIN:VCALENDAR
VERSION:2.0
PRODID:-//achurchnearyou.com//eventfeed//EN
CALSCALE:GREGORIAN
METHOD:PUBLISH
X-WR-TIMEZONE:UTC
BEGIN:VEVENT
SUMMARY:18 February 2026
DTSTART:20260218T110000Z
DTEND:20260218T120000Z
DTSTAMP:20260420T033138Z
UID:12771642026-02-18 11:00:00+00:00achurchnearyou
CATEGORIES:
DESCRIPTION:Eucharist with Ashing
GEO:-0.864878;51.673973
LOCATION:Radnage - St Mary the Virgin
URL:https://www.achurchnearyou.com/church/227/service-and-events/events/12
 77164/
END:VEVENT
END:VCALENDAR
