BEGIN:VCALENDAR
VERSION:2.0
PRODID:-//achurchnearyou.com//eventfeed//EN
CALSCALE:GREGORIAN
METHOD:PUBLISH
X-WR-TIMEZONE:UTC
BEGIN:VEVENT
SUMMARY:Holy Communion
DTSTART:20260412T100000Z
DTEND:20260412T110000Z
DTSTAMP:20260423T203907Z
UID:13199762026-04-12 10:00:00+00:00achurchnearyou
CATEGORIES:
DESCRIPTION:Common Worship
GEO:1.284194;52.26034
LOCATION:St Ethelbert\, Tannington
URL:https://www.achurchnearyou.com/church/2294/service-and-events/events/1
 319976/
END:VEVENT
END:VCALENDAR
