BEGIN:VCALENDAR
VERSION:2.0
PRODID:-//achurchnearyou.com//eventfeed//EN
CALSCALE:GREGORIAN
METHOD:PUBLISH
X-WR-TIMEZONE:UTC
BEGIN:VEVENT
SUMMARY:Easter Sunday Services
DTSTART:20250420T090000Z
DTEND:20250420T100000Z
DTSTAMP:20260419T160026Z
UID:11931012025-04-20 09:00:00+00:00achurchnearyou
CATEGORIES:
DESCRIPTION:Please join us at one of the benefice churches for your Easter
  Sunday Service. PLEASE NOTE THE VARYING START TIMES\, which are shown on 
 the attached flyer\, as well as in the magazine.
URL:https://www.achurchnearyou.com/church/2302/service-and-events/events/1
 193101/
END:VEVENT
END:VCALENDAR
