BEGIN:VCALENDAR
VERSION:2.0
PRODID:-//achurchnearyou.com//eventfeed//EN
CALSCALE:GREGORIAN
METHOD:PUBLISH
X-WR-TIMEZONE:UTC
BEGIN:VEVENT
SUMMARY:Ash Wednesday Service
DTSTART:20250305T193000Z
DTEND:20250305T203000Z
DTSTAMP:20260424T215138Z
UID:11624832025-03-05 19:30:00+00:00achurchnearyou
CATEGORIES:
DESCRIPTION:A simple service to begin Lent
GEO:-0.9526243128280565;51.45498757758199
LOCATION:St John and St Stephen's Orts Road
URL:https://www.achurchnearyou.com/church/233/service-and-events/events/11
 62483/
END:VEVENT
END:VCALENDAR
