BEGIN:VCALENDAR
VERSION:2.0
PRODID:-//achurchnearyou.com//eventfeed//EN
CALSCALE:GREGORIAN
METHOD:PUBLISH
X-WR-TIMEZONE:UTC
BEGIN:VEVENT
SUMMARY:Good Friday Act of Worship
DTSTART:20250318T140000Z
DTEND:20250318T153000Z
DTSTAMP:20260424T203023Z
UID:11751002025-03-18 14:00:00+00:00achurchnearyou
CATEGORIES:
DESCRIPTION:Outdoor service followed by Stations of the Cross indoors
GEO:-0.9526243128280565;51.45498757758199
LOCATION:St John and St Stephen's Orts Road
URL:https://www.achurchnearyou.com/church/233/service-and-events/events/11
 75100/
END:VEVENT
END:VCALENDAR
