BEGIN:VCALENDAR
VERSION:2.0
PRODID:-//achurchnearyou.com//eventfeed//EN
CALSCALE:GREGORIAN
METHOD:PUBLISH
X-WR-TIMEZONE:UTC
BEGIN:VEVENT
SUMMARY:Songs of Praise
DTSTART:20250216T110000Z
DTEND:20250216T120000Z
DTSTAMP:20260424T235317Z
UID:11555092025-02-16 11:00:00+00:00achurchnearyou
CATEGORIES:
DESCRIPTION:We hold a monthly informal Songs of Praise Service on the 2nd 
 Sunday. Everyone is welcome to come along and join in.
GEO:0.931559;52.301721
LOCATION:Walsham-le-Willows\, St Mary the Virgin
URL:https://www.achurchnearyou.com/church/2342/service-and-events/events/1
 155509/
END:VEVENT
END:VCALENDAR
