BEGIN:VCALENDAR
VERSION:2.0
PRODID:-//achurchnearyou.com//eventfeed//EN
CALSCALE:GREGORIAN
METHOD:PUBLISH
X-WR-TIMEZONE:UTC
BEGIN:VEVENT
SUMMARY:Lent Course 2025
DTSTART;TZID=Europe/London:20250313T143000
DTEND;TZID=Europe/London:20250313T160000
DTSTAMP:20260424T163409Z
UID:11605762025-03-13 14:30:00+00:00achurchnearyou
CATEGORIES:
DESCRIPTION:Three Lent Courses are being run across the Benefice and toget
 her we are going to be looking at Church Urban Fund's Growing Good as we c
 ontinue to think about Mission and Ministry in our Churches. Everyone is w
 elcome to all or any of these sessions.
GEO:-5.140716584497454;50.14990038372099
LOCATION:St Laudus\, Mabe\nSt Gluvias Church\nPonsanooth: St Michael & All
  Angels\nSt Mylor\, Mylor Churchtown\nAll Saints\, Mylor Bridge
URL:https://www.achurchnearyou.com/church/2371/service-and-events/events/1
 160576/
END:VEVENT
BEGIN:VEVENT
SUMMARY:Lent Course 2025
DTSTART;TZID=Europe/London:20250320T143000
DTEND;TZID=Europe/London:20250320T160000
DTSTAMP:20260424T163409Z
UID:11605762025-03-20 14:30:00+00:00achurchnearyou
CATEGORIES:
DESCRIPTION:Three Lent Courses are being run across the Benefice and toget
 her we are going to be looking at Church Urban Fund's Growing Good as we c
 ontinue to think about Mission and Ministry in our Churches. Everyone is w
 elcome to all or any of these sessions.
GEO:-5.140716584497454;50.14990038372099
LOCATION:St Laudus\, Mabe\nSt Gluvias Church\nPonsanooth: St Michael & All
  Angels\nSt Mylor\, Mylor Churchtown\nAll Saints\, Mylor Bridge
URL:https://www.achurchnearyou.com/church/2371/service-and-events/events/1
 160576/
END:VEVENT
BEGIN:VEVENT
SUMMARY:Lent Course 2025
DTSTART;TZID=Europe/London:20250327T143000
DTEND;TZID=Europe/London:20250327T160000
DTSTAMP:20260424T163409Z
UID:11605762025-03-27 14:30:00+00:00achurchnearyou
CATEGORIES:
DESCRIPTION:Three Lent Courses are being run across the Benefice and toget
 her we are going to be looking at Church Urban Fund's Growing Good as we c
 ontinue to think about Mission and Ministry in our Churches. Everyone is w
 elcome to all or any of these sessions.
GEO:-5.140716584497454;50.14990038372099
LOCATION:St Laudus\, Mabe\nSt Gluvias Church\nPonsanooth: St Michael & All
  Angels\nSt Mylor\, Mylor Churchtown\nAll Saints\, Mylor Bridge
URL:https://www.achurchnearyou.com/church/2371/service-and-events/events/1
 160576/
END:VEVENT
BEGIN:VEVENT
SUMMARY:Lent Course 2025
DTSTART;TZID=Europe/London:20250403T143000
DTEND;TZID=Europe/London:20250403T160000
DTSTAMP:20260424T163409Z
UID:11605762025-04-03 14:30:00+01:00achurchnearyou
CATEGORIES:
DESCRIPTION:Three Lent Courses are being run across the Benefice and toget
 her we are going to be looking at Church Urban Fund's Growing Good as we c
 ontinue to think about Mission and Ministry in our Churches. Everyone is w
 elcome to all or any of these sessions.
GEO:-5.140716584497454;50.14990038372099
LOCATION:St Laudus\, Mabe\nSt Gluvias Church\nPonsanooth: St Michael & All
  Angels\nSt Mylor\, Mylor Churchtown\nAll Saints\, Mylor Bridge
URL:https://www.achurchnearyou.com/church/2371/service-and-events/events/1
 160576/
END:VEVENT
BEGIN:VEVENT
SUMMARY:Lent Course 2025
DTSTART;TZID=Europe/London:20250410T143000
DTEND;TZID=Europe/London:20250410T160000
DTSTAMP:20260424T163409Z
UID:11605762025-04-10 14:30:00+01:00achurchnearyou
CATEGORIES:
DESCRIPTION:Three Lent Courses are being run across the Benefice and toget
 her we are going to be looking at Church Urban Fund's Growing Good as we c
 ontinue to think about Mission and Ministry in our Churches. Everyone is w
 elcome to all or any of these sessions.
GEO:-5.140716584497454;50.14990038372099
LOCATION:St Laudus\, Mabe\nSt Gluvias Church\nPonsanooth: St Michael & All
  Angels\nSt Mylor\, Mylor Churchtown\nAll Saints\, Mylor Bridge
URL:https://www.achurchnearyou.com/church/2371/service-and-events/events/1
 160576/
END:VEVENT
END:VCALENDAR
