BEGIN:VCALENDAR
VERSION:2.0
PRODID:-//achurchnearyou.com//eventfeed//EN
CALSCALE:GREGORIAN
METHOD:PUBLISH
X-WR-TIMEZONE:UTC
BEGIN:VEVENT
SUMMARY:Sunday Services - All Welcome!
DTSTART;TZID=Europe/London:20250223T100000
DTEND;TZID=Europe/London:20250223T113000
DTSTAMP:20260424T163402Z
UID:7391772025-02-23 10:00:00+00:00achurchnearyou
CATEGORIES:
DESCRIPTION:Thank you for visiting our page. We alternate our friendly Sun
 day services between St. Laudus (Mabe) and St. Michael's (Ponsanooth) and 
 start at 10am unless stated otherwise. We hold either a 'Holy Communion' o
 r a 'Service of the Word' service. Communion services are led by local cle
 rgy and Morning Prayer services are led by our lay person. Following the s
 ervices\, all are welcome to stay for refreshments (coffee\, tea\, cake or
  biscuits). We sing traditional hymns\, and have an excellent organist\, a
 long with a small complement of local bell-ringers. All are welcome!\n\nMa
 rch/April 2025 St. Laudus & St. Michael's Services: \n\nSt. Michael's (Pon
 sanooth) Sunday 2nd March - Holy Communion\, Revd Canon Sue Wallace \n\nSt
 . Laudus (Mabe) Sunday 9th March - Holy Communion\, Revd Emma Durose\n\nSt
 . Michael's (Ponsanooth) Sunday 16th March - Service of the Word\, Mary We
 ston\n\nSt. Laudus (Mabe) Sunday 23rd March - Service of the Word\, Lesley
  Maddock\n\nSt. Gluvias (Penryn) 'Mothering Sunday' 30th March - Joint Ben
 efice Service Archdeacon Clive Hopper\n\nSt. Michael's (Ponsanooth) Sunday
  6th April - Holy Communion\, Revd Canon Sue Wallace \n\nSt. Laudus (Mabe)
  'Palm Sunday' 13th April - Holy Communion\, Revd Emma Durose\n\n'Good Fri
 day' 18th April - venue to be confirmed\n\nSt. Michael's (Ponsanooth) 'Eas
 ter Day' Sunday 20th April - Holy Communion Reverend Ben Hudd\n\nSt. Laudu
 s (Mabe) Sunday 27th April - Service of the Word\, Mary Weston
GEO:-5.140716584497454;50.14990038372099
LOCATION:St Laudus\, Mabe
URL:https://www.achurchnearyou.com/church/2371/service-and-events/events/7
 39177/
END:VEVENT
BEGIN:VEVENT
SUMMARY:Sunday Services - All Welcome!
DTSTART;TZID=Europe/London:20250302T100000
DTEND;TZID=Europe/London:20250302T113000
DTSTAMP:20260424T163402Z
UID:7391772025-03-02 10:00:00+00:00achurchnearyou
CATEGORIES:
DESCRIPTION:Thank you for visiting our page. We alternate our friendly Sun
 day services between St. Laudus (Mabe) and St. Michael's (Ponsanooth) and 
 start at 10am unless stated otherwise. We hold either a 'Holy Communion' o
 r a 'Service of the Word' service. Communion services are led by local cle
 rgy and Morning Prayer services are led by our lay person. Following the s
 ervices\, all are welcome to stay for refreshments (coffee\, tea\, cake or
  biscuits). We sing traditional hymns\, and have an excellent organist\, a
 long with a small complement of local bell-ringers. All are welcome!\n\nMa
 rch/April 2025 St. Laudus & St. Michael's Services: \n\nSt. Michael's (Pon
 sanooth) Sunday 2nd March - Holy Communion\, Revd Canon Sue Wallace \n\nSt
 . Laudus (Mabe) Sunday 9th March - Holy Communion\, Revd Emma Durose\n\nSt
 . Michael's (Ponsanooth) Sunday 16th March - Service of the Word\, Mary We
 ston\n\nSt. Laudus (Mabe) Sunday 23rd March - Service of the Word\, Lesley
  Maddock\n\nSt. Gluvias (Penryn) 'Mothering Sunday' 30th March - Joint Ben
 efice Service Archdeacon Clive Hopper\n\nSt. Michael's (Ponsanooth) Sunday
  6th April - Holy Communion\, Revd Canon Sue Wallace \n\nSt. Laudus (Mabe)
  'Palm Sunday' 13th April - Holy Communion\, Revd Emma Durose\n\n'Good Fri
 day' 18th April - venue to be confirmed\n\nSt. Michael's (Ponsanooth) 'Eas
 ter Day' Sunday 20th April - Holy Communion Reverend Ben Hudd\n\nSt. Laudu
 s (Mabe) Sunday 27th April - Service of the Word\, Mary Weston
GEO:-5.140716584497454;50.14990038372099
LOCATION:St Laudus\, Mabe
URL:https://www.achurchnearyou.com/church/2371/service-and-events/events/7
 39177/
END:VEVENT
BEGIN:VEVENT
SUMMARY:Sunday Services - All Welcome!
DTSTART;TZID=Europe/London:20250309T100000
DTEND;TZID=Europe/London:20250309T113000
DTSTAMP:20260424T163402Z
UID:7391772025-03-09 10:00:00+00:00achurchnearyou
CATEGORIES:
DESCRIPTION:Thank you for visiting our page. We alternate our friendly Sun
 day services between St. Laudus (Mabe) and St. Michael's (Ponsanooth) and 
 start at 10am unless stated otherwise. We hold either a 'Holy Communion' o
 r a 'Service of the Word' service. Communion services are led by local cle
 rgy and Morning Prayer services are led by our lay person. Following the s
 ervices\, all are welcome to stay for refreshments (coffee\, tea\, cake or
  biscuits). We sing traditional hymns\, and have an excellent organist\, a
 long with a small complement of local bell-ringers. All are welcome!\n\nMa
 rch/April 2025 St. Laudus & St. Michael's Services: \n\nSt. Michael's (Pon
 sanooth) Sunday 2nd March - Holy Communion\, Revd Canon Sue Wallace \n\nSt
 . Laudus (Mabe) Sunday 9th March - Holy Communion\, Revd Emma Durose\n\nSt
 . Michael's (Ponsanooth) Sunday 16th March - Service of the Word\, Mary We
 ston\n\nSt. Laudus (Mabe) Sunday 23rd March - Service of the Word\, Lesley
  Maddock\n\nSt. Gluvias (Penryn) 'Mothering Sunday' 30th March - Joint Ben
 efice Service Archdeacon Clive Hopper\n\nSt. Michael's (Ponsanooth) Sunday
  6th April - Holy Communion\, Revd Canon Sue Wallace \n\nSt. Laudus (Mabe)
  'Palm Sunday' 13th April - Holy Communion\, Revd Emma Durose\n\n'Good Fri
 day' 18th April - venue to be confirmed\n\nSt. Michael's (Ponsanooth) 'Eas
 ter Day' Sunday 20th April - Holy Communion Reverend Ben Hudd\n\nSt. Laudu
 s (Mabe) Sunday 27th April - Service of the Word\, Mary Weston
GEO:-5.140716584497454;50.14990038372099
LOCATION:St Laudus\, Mabe
URL:https://www.achurchnearyou.com/church/2371/service-and-events/events/7
 39177/
END:VEVENT
BEGIN:VEVENT
SUMMARY:Sunday Services - All Welcome!
DTSTART;TZID=Europe/London:20250316T100000
DTEND;TZID=Europe/London:20250316T113000
DTSTAMP:20260424T163402Z
UID:7391772025-03-16 10:00:00+00:00achurchnearyou
CATEGORIES:
DESCRIPTION:Thank you for visiting our page. We alternate our friendly Sun
 day services between St. Laudus (Mabe) and St. Michael's (Ponsanooth) and 
 start at 10am unless stated otherwise. We hold either a 'Holy Communion' o
 r a 'Service of the Word' service. Communion services are led by local cle
 rgy and Morning Prayer services are led by our lay person. Following the s
 ervices\, all are welcome to stay for refreshments (coffee\, tea\, cake or
  biscuits). We sing traditional hymns\, and have an excellent organist\, a
 long with a small complement of local bell-ringers. All are welcome!\n\nMa
 rch/April 2025 St. Laudus & St. Michael's Services: \n\nSt. Michael's (Pon
 sanooth) Sunday 2nd March - Holy Communion\, Revd Canon Sue Wallace \n\nSt
 . Laudus (Mabe) Sunday 9th March - Holy Communion\, Revd Emma Durose\n\nSt
 . Michael's (Ponsanooth) Sunday 16th March - Service of the Word\, Mary We
 ston\n\nSt. Laudus (Mabe) Sunday 23rd March - Service of the Word\, Lesley
  Maddock\n\nSt. Gluvias (Penryn) 'Mothering Sunday' 30th March - Joint Ben
 efice Service Archdeacon Clive Hopper\n\nSt. Michael's (Ponsanooth) Sunday
  6th April - Holy Communion\, Revd Canon Sue Wallace \n\nSt. Laudus (Mabe)
  'Palm Sunday' 13th April - Holy Communion\, Revd Emma Durose\n\n'Good Fri
 day' 18th April - venue to be confirmed\n\nSt. Michael's (Ponsanooth) 'Eas
 ter Day' Sunday 20th April - Holy Communion Reverend Ben Hudd\n\nSt. Laudu
 s (Mabe) Sunday 27th April - Service of the Word\, Mary Weston
GEO:-5.140716584497454;50.14990038372099
LOCATION:St Laudus\, Mabe
URL:https://www.achurchnearyou.com/church/2371/service-and-events/events/7
 39177/
END:VEVENT
BEGIN:VEVENT
SUMMARY:Sunday Services - All Welcome!
DTSTART;TZID=Europe/London:20250323T100000
DTEND;TZID=Europe/London:20250323T113000
DTSTAMP:20260424T163402Z
UID:7391772025-03-23 10:00:00+00:00achurchnearyou
CATEGORIES:
DESCRIPTION:Thank you for visiting our page. We alternate our friendly Sun
 day services between St. Laudus (Mabe) and St. Michael's (Ponsanooth) and 
 start at 10am unless stated otherwise. We hold either a 'Holy Communion' o
 r a 'Service of the Word' service. Communion services are led by local cle
 rgy and Morning Prayer services are led by our lay person. Following the s
 ervices\, all are welcome to stay for refreshments (coffee\, tea\, cake or
  biscuits). We sing traditional hymns\, and have an excellent organist\, a
 long with a small complement of local bell-ringers. All are welcome!\n\nMa
 rch/April 2025 St. Laudus & St. Michael's Services: \n\nSt. Michael's (Pon
 sanooth) Sunday 2nd March - Holy Communion\, Revd Canon Sue Wallace \n\nSt
 . Laudus (Mabe) Sunday 9th March - Holy Communion\, Revd Emma Durose\n\nSt
 . Michael's (Ponsanooth) Sunday 16th March - Service of the Word\, Mary We
 ston\n\nSt. Laudus (Mabe) Sunday 23rd March - Service of the Word\, Lesley
  Maddock\n\nSt. Gluvias (Penryn) 'Mothering Sunday' 30th March - Joint Ben
 efice Service Archdeacon Clive Hopper\n\nSt. Michael's (Ponsanooth) Sunday
  6th April - Holy Communion\, Revd Canon Sue Wallace \n\nSt. Laudus (Mabe)
  'Palm Sunday' 13th April - Holy Communion\, Revd Emma Durose\n\n'Good Fri
 day' 18th April - venue to be confirmed\n\nSt. Michael's (Ponsanooth) 'Eas
 ter Day' Sunday 20th April - Holy Communion Reverend Ben Hudd\n\nSt. Laudu
 s (Mabe) Sunday 27th April - Service of the Word\, Mary Weston
GEO:-5.140716584497454;50.14990038372099
LOCATION:St Laudus\, Mabe
URL:https://www.achurchnearyou.com/church/2371/service-and-events/events/7
 39177/
END:VEVENT
BEGIN:VEVENT
SUMMARY:Sunday Services - All Welcome!
DTSTART;TZID=Europe/London:20250330T100000
DTEND;TZID=Europe/London:20250330T113000
DTSTAMP:20260424T163402Z
UID:7391772025-03-30 10:00:00+01:00achurchnearyou
CATEGORIES:
DESCRIPTION:Thank you for visiting our page. We alternate our friendly Sun
 day services between St. Laudus (Mabe) and St. Michael's (Ponsanooth) and 
 start at 10am unless stated otherwise. We hold either a 'Holy Communion' o
 r a 'Service of the Word' service. Communion services are led by local cle
 rgy and Morning Prayer services are led by our lay person. Following the s
 ervices\, all are welcome to stay for refreshments (coffee\, tea\, cake or
  biscuits). We sing traditional hymns\, and have an excellent organist\, a
 long with a small complement of local bell-ringers. All are welcome!\n\nMa
 rch/April 2025 St. Laudus & St. Michael's Services: \n\nSt. Michael's (Pon
 sanooth) Sunday 2nd March - Holy Communion\, Revd Canon Sue Wallace \n\nSt
 . Laudus (Mabe) Sunday 9th March - Holy Communion\, Revd Emma Durose\n\nSt
 . Michael's (Ponsanooth) Sunday 16th March - Service of the Word\, Mary We
 ston\n\nSt. Laudus (Mabe) Sunday 23rd March - Service of the Word\, Lesley
  Maddock\n\nSt. Gluvias (Penryn) 'Mothering Sunday' 30th March - Joint Ben
 efice Service Archdeacon Clive Hopper\n\nSt. Michael's (Ponsanooth) Sunday
  6th April - Holy Communion\, Revd Canon Sue Wallace \n\nSt. Laudus (Mabe)
  'Palm Sunday' 13th April - Holy Communion\, Revd Emma Durose\n\n'Good Fri
 day' 18th April - venue to be confirmed\n\nSt. Michael's (Ponsanooth) 'Eas
 ter Day' Sunday 20th April - Holy Communion Reverend Ben Hudd\n\nSt. Laudu
 s (Mabe) Sunday 27th April - Service of the Word\, Mary Weston
GEO:-5.140716584497454;50.14990038372099
LOCATION:St Laudus\, Mabe
URL:https://www.achurchnearyou.com/church/2371/service-and-events/events/7
 39177/
END:VEVENT
BEGIN:VEVENT
SUMMARY:Sunday Services - All Welcome!
DTSTART;TZID=Europe/London:20250406T100000
DTEND;TZID=Europe/London:20250406T113000
DTSTAMP:20260424T163402Z
UID:7391772025-04-06 10:00:00+01:00achurchnearyou
CATEGORIES:
DESCRIPTION:Thank you for visiting our page. We alternate our friendly Sun
 day services between St. Laudus (Mabe) and St. Michael's (Ponsanooth) and 
 start at 10am unless stated otherwise. We hold either a 'Holy Communion' o
 r a 'Service of the Word' service. Communion services are led by local cle
 rgy and Morning Prayer services are led by our lay person. Following the s
 ervices\, all are welcome to stay for refreshments (coffee\, tea\, cake or
  biscuits). We sing traditional hymns\, and have an excellent organist\, a
 long with a small complement of local bell-ringers. All are welcome!\n\nMa
 rch/April 2025 St. Laudus & St. Michael's Services: \n\nSt. Michael's (Pon
 sanooth) Sunday 2nd March - Holy Communion\, Revd Canon Sue Wallace \n\nSt
 . Laudus (Mabe) Sunday 9th March - Holy Communion\, Revd Emma Durose\n\nSt
 . Michael's (Ponsanooth) Sunday 16th March - Service of the Word\, Mary We
 ston\n\nSt. Laudus (Mabe) Sunday 23rd March - Service of the Word\, Lesley
  Maddock\n\nSt. Gluvias (Penryn) 'Mothering Sunday' 30th March - Joint Ben
 efice Service Archdeacon Clive Hopper\n\nSt. Michael's (Ponsanooth) Sunday
  6th April - Holy Communion\, Revd Canon Sue Wallace \n\nSt. Laudus (Mabe)
  'Palm Sunday' 13th April - Holy Communion\, Revd Emma Durose\n\n'Good Fri
 day' 18th April - venue to be confirmed\n\nSt. Michael's (Ponsanooth) 'Eas
 ter Day' Sunday 20th April - Holy Communion Reverend Ben Hudd\n\nSt. Laudu
 s (Mabe) Sunday 27th April - Service of the Word\, Mary Weston
GEO:-5.140716584497454;50.14990038372099
LOCATION:St Laudus\, Mabe
URL:https://www.achurchnearyou.com/church/2371/service-and-events/events/7
 39177/
END:VEVENT
BEGIN:VEVENT
SUMMARY:Sunday Services - All Welcome!
DTSTART;TZID=Europe/London:20250413T100000
DTEND;TZID=Europe/London:20250413T113000
DTSTAMP:20260424T163402Z
UID:7391772025-04-13 10:00:00+01:00achurchnearyou
CATEGORIES:
DESCRIPTION:Thank you for visiting our page. We alternate our friendly Sun
 day services between St. Laudus (Mabe) and St. Michael's (Ponsanooth) and 
 start at 10am unless stated otherwise. We hold either a 'Holy Communion' o
 r a 'Service of the Word' service. Communion services are led by local cle
 rgy and Morning Prayer services are led by our lay person. Following the s
 ervices\, all are welcome to stay for refreshments (coffee\, tea\, cake or
  biscuits). We sing traditional hymns\, and have an excellent organist\, a
 long with a small complement of local bell-ringers. All are welcome!\n\nMa
 rch/April 2025 St. Laudus & St. Michael's Services: \n\nSt. Michael's (Pon
 sanooth) Sunday 2nd March - Holy Communion\, Revd Canon Sue Wallace \n\nSt
 . Laudus (Mabe) Sunday 9th March - Holy Communion\, Revd Emma Durose\n\nSt
 . Michael's (Ponsanooth) Sunday 16th March - Service of the Word\, Mary We
 ston\n\nSt. Laudus (Mabe) Sunday 23rd March - Service of the Word\, Lesley
  Maddock\n\nSt. Gluvias (Penryn) 'Mothering Sunday' 30th March - Joint Ben
 efice Service Archdeacon Clive Hopper\n\nSt. Michael's (Ponsanooth) Sunday
  6th April - Holy Communion\, Revd Canon Sue Wallace \n\nSt. Laudus (Mabe)
  'Palm Sunday' 13th April - Holy Communion\, Revd Emma Durose\n\n'Good Fri
 day' 18th April - venue to be confirmed\n\nSt. Michael's (Ponsanooth) 'Eas
 ter Day' Sunday 20th April - Holy Communion Reverend Ben Hudd\n\nSt. Laudu
 s (Mabe) Sunday 27th April - Service of the Word\, Mary Weston
GEO:-5.140716584497454;50.14990038372099
LOCATION:St Laudus\, Mabe
URL:https://www.achurchnearyou.com/church/2371/service-and-events/events/7
 39177/
END:VEVENT
BEGIN:VEVENT
SUMMARY:Sunday Services - All Welcome!
DTSTART;TZID=Europe/London:20250420T100000
DTEND;TZID=Europe/London:20250420T113000
DTSTAMP:20260424T163402Z
UID:7391772025-04-20 10:00:00+01:00achurchnearyou
CATEGORIES:
DESCRIPTION:Thank you for visiting our page. We alternate our friendly Sun
 day services between St. Laudus (Mabe) and St. Michael's (Ponsanooth) and 
 start at 10am unless stated otherwise. We hold either a 'Holy Communion' o
 r a 'Service of the Word' service. Communion services are led by local cle
 rgy and Morning Prayer services are led by our lay person. Following the s
 ervices\, all are welcome to stay for refreshments (coffee\, tea\, cake or
  biscuits). We sing traditional hymns\, and have an excellent organist\, a
 long with a small complement of local bell-ringers. All are welcome!\n\nMa
 rch/April 2025 St. Laudus & St. Michael's Services: \n\nSt. Michael's (Pon
 sanooth) Sunday 2nd March - Holy Communion\, Revd Canon Sue Wallace \n\nSt
 . Laudus (Mabe) Sunday 9th March - Holy Communion\, Revd Emma Durose\n\nSt
 . Michael's (Ponsanooth) Sunday 16th March - Service of the Word\, Mary We
 ston\n\nSt. Laudus (Mabe) Sunday 23rd March - Service of the Word\, Lesley
  Maddock\n\nSt. Gluvias (Penryn) 'Mothering Sunday' 30th March - Joint Ben
 efice Service Archdeacon Clive Hopper\n\nSt. Michael's (Ponsanooth) Sunday
  6th April - Holy Communion\, Revd Canon Sue Wallace \n\nSt. Laudus (Mabe)
  'Palm Sunday' 13th April - Holy Communion\, Revd Emma Durose\n\n'Good Fri
 day' 18th April - venue to be confirmed\n\nSt. Michael's (Ponsanooth) 'Eas
 ter Day' Sunday 20th April - Holy Communion Reverend Ben Hudd\n\nSt. Laudu
 s (Mabe) Sunday 27th April - Service of the Word\, Mary Weston
GEO:-5.140716584497454;50.14990038372099
LOCATION:St Laudus\, Mabe
URL:https://www.achurchnearyou.com/church/2371/service-and-events/events/7
 39177/
END:VEVENT
BEGIN:VEVENT
SUMMARY:Sunday Services - All Welcome!
DTSTART;TZID=Europe/London:20250427T100000
DTEND;TZID=Europe/London:20250427T113000
DTSTAMP:20260424T163402Z
UID:7391772025-04-27 10:00:00+01:00achurchnearyou
CATEGORIES:
DESCRIPTION:Thank you for visiting our page. We alternate our friendly Sun
 day services between St. Laudus (Mabe) and St. Michael's (Ponsanooth) and 
 start at 10am unless stated otherwise. We hold either a 'Holy Communion' o
 r a 'Service of the Word' service. Communion services are led by local cle
 rgy and Morning Prayer services are led by our lay person. Following the s
 ervices\, all are welcome to stay for refreshments (coffee\, tea\, cake or
  biscuits). We sing traditional hymns\, and have an excellent organist\, a
 long with a small complement of local bell-ringers. All are welcome!\n\nMa
 rch/April 2025 St. Laudus & St. Michael's Services: \n\nSt. Michael's (Pon
 sanooth) Sunday 2nd March - Holy Communion\, Revd Canon Sue Wallace \n\nSt
 . Laudus (Mabe) Sunday 9th March - Holy Communion\, Revd Emma Durose\n\nSt
 . Michael's (Ponsanooth) Sunday 16th March - Service of the Word\, Mary We
 ston\n\nSt. Laudus (Mabe) Sunday 23rd March - Service of the Word\, Lesley
  Maddock\n\nSt. Gluvias (Penryn) 'Mothering Sunday' 30th March - Joint Ben
 efice Service Archdeacon Clive Hopper\n\nSt. Michael's (Ponsanooth) Sunday
  6th April - Holy Communion\, Revd Canon Sue Wallace \n\nSt. Laudus (Mabe)
  'Palm Sunday' 13th April - Holy Communion\, Revd Emma Durose\n\n'Good Fri
 day' 18th April - venue to be confirmed\n\nSt. Michael's (Ponsanooth) 'Eas
 ter Day' Sunday 20th April - Holy Communion Reverend Ben Hudd\n\nSt. Laudu
 s (Mabe) Sunday 27th April - Service of the Word\, Mary Weston
GEO:-5.140716584497454;50.14990038372099
LOCATION:St Laudus\, Mabe
URL:https://www.achurchnearyou.com/church/2371/service-and-events/events/7
 39177/
END:VEVENT
END:VCALENDAR
