BEGIN:VCALENDAR
VERSION:2.0
PRODID:-//achurchnearyou.com//eventfeed//EN
CALSCALE:GREGORIAN
METHOD:PUBLISH
X-WR-TIMEZONE:UTC
BEGIN:VEVENT
SUMMARY:Stations of the Cross
DTSTART;TZID=Europe/London:20260307T120000
DTEND;TZID=Europe/London:20260307T124500
DTSTAMP:20260423T132715Z
UID:12926392026-03-07 12:00:00+00:00achurchnearyou
CATEGORIES:
DESCRIPTION:Jesus said\, “If any want to become my followers\, let them 
 deny themselves and take up their cross daily and follow me. For those who
  want to save their life will lose it\, and those who lose their life for 
 my sake will save it.” (Luke 9:23-34)
GEO:-5.099582;50.170576
LOCATION:St Gluvias Church
URL:https://www.achurchnearyou.com/church/2372/service-and-events/events/1
 292639/
END:VEVENT
BEGIN:VEVENT
SUMMARY:Stations of the Cross
DTSTART;TZID=Europe/London:20260314T120000
DTEND;TZID=Europe/London:20260314T124500
DTSTAMP:20260423T132715Z
UID:12926392026-03-14 12:00:00+00:00achurchnearyou
CATEGORIES:
DESCRIPTION:Jesus said\, “If any want to become my followers\, let them 
 deny themselves and take up their cross daily and follow me. For those who
  want to save their life will lose it\, and those who lose their life for 
 my sake will save it.” (Luke 9:23-34)
GEO:-5.099582;50.170576
LOCATION:St Gluvias Church
URL:https://www.achurchnearyou.com/church/2372/service-and-events/events/1
 292639/
END:VEVENT
BEGIN:VEVENT
SUMMARY:Stations of the Cross
DTSTART;TZID=Europe/London:20260328T120000
DTEND;TZID=Europe/London:20260328T124500
DTSTAMP:20260423T132715Z
UID:12926392026-03-28 12:00:00+00:00achurchnearyou
CATEGORIES:
DESCRIPTION:Jesus said\, “If any want to become my followers\, let them 
 deny themselves and take up their cross daily and follow me. For those who
  want to save their life will lose it\, and those who lose their life for 
 my sake will save it.” (Luke 9:23-34)
GEO:-5.099582;50.170576
LOCATION:St Gluvias Church
URL:https://www.achurchnearyou.com/church/2372/service-and-events/events/1
 292639/
END:VEVENT
BEGIN:VEVENT
SUMMARY:Stations of the Cross
DTSTART;TZID=Europe/London:20260404T120000
DTEND;TZID=Europe/London:20260404T124500
DTSTAMP:20260423T132715Z
UID:12926392026-04-04 12:00:00+01:00achurchnearyou
CATEGORIES:
DESCRIPTION:Jesus said\, “If any want to become my followers\, let them 
 deny themselves and take up their cross daily and follow me. For those who
  want to save their life will lose it\, and those who lose their life for 
 my sake will save it.” (Luke 9:23-34)
GEO:-5.099582;50.170576
LOCATION:St Gluvias Church
URL:https://www.achurchnearyou.com/church/2372/service-and-events/events/1
 292639/
END:VEVENT
END:VCALENDAR
