BEGIN:VCALENDAR
VERSION:2.0
PRODID:-//achurchnearyou.com//eventfeed//EN
CALSCALE:GREGORIAN
METHOD:PUBLISH
X-WR-TIMEZONE:UTC
BEGIN:VEVENT
SUMMARY:Lent Course - Crossing the Lake - Mission in Our Place
DTSTART;TZID=Europe/London:20260224T110000
DTEND;TZID=Europe/London:20260224T114500
DTSTAMP:20260423T103650Z
UID:13063772026-02-24 11:00:00+00:00achurchnearyou
CATEGORIES:
DESCRIPTION:Led by Rev'd Ben Hudd and Churchwarden Jenny.   \n\nEach week 
 Rev'd Ben will record the bible reading\, provide input and discussion wit
 h questions so that those that are not able to attend in person can still 
 join in on the journey together if they wish to online.  Please do let the
  churchwardens know if you wish to attend or if you wish to follow online.
  - email : Churchwardens@stglvias.org.uk
GEO:-5.099582;50.170576
LOCATION:St Gluvias Church
URL:https://www.achurchnearyou.com/church/2372/service-and-events/events/1
 306377/
END:VEVENT
BEGIN:VEVENT
SUMMARY:Lent Course - Crossing the Lake - Mission in Our Place
DTSTART;TZID=Europe/London:20260303T110000
DTEND;TZID=Europe/London:20260303T114500
DTSTAMP:20260423T103650Z
UID:13063772026-03-03 11:00:00+00:00achurchnearyou
CATEGORIES:
DESCRIPTION:Led by Rev'd Ben Hudd and Churchwarden Jenny.   \n\nEach week 
 Rev'd Ben will record the bible reading\, provide input and discussion wit
 h questions so that those that are not able to attend in person can still 
 join in on the journey together if they wish to online.  Please do let the
  churchwardens know if you wish to attend or if you wish to follow online.
  - email : Churchwardens@stglvias.org.uk
GEO:-5.099582;50.170576
LOCATION:St Gluvias Church
URL:https://www.achurchnearyou.com/church/2372/service-and-events/events/1
 306377/
END:VEVENT
BEGIN:VEVENT
SUMMARY:Lent Course - Crossing the Lake - Mission in Our Place
DTSTART;TZID=Europe/London:20260310T110000
DTEND;TZID=Europe/London:20260310T114500
DTSTAMP:20260423T103650Z
UID:13063772026-03-10 11:00:00+00:00achurchnearyou
CATEGORIES:
DESCRIPTION:Led by Rev'd Ben Hudd and Churchwarden Jenny.   \n\nEach week 
 Rev'd Ben will record the bible reading\, provide input and discussion wit
 h questions so that those that are not able to attend in person can still 
 join in on the journey together if they wish to online.  Please do let the
  churchwardens know if you wish to attend or if you wish to follow online.
  - email : Churchwardens@stglvias.org.uk
GEO:-5.099582;50.170576
LOCATION:St Gluvias Church
URL:https://www.achurchnearyou.com/church/2372/service-and-events/events/1
 306377/
END:VEVENT
BEGIN:VEVENT
SUMMARY:Lent Course - Crossing the Lake - Mission in Our Place
DTSTART;TZID=Europe/London:20260317T110000
DTEND;TZID=Europe/London:20260317T114500
DTSTAMP:20260423T103650Z
UID:13063772026-03-17 11:00:00+00:00achurchnearyou
CATEGORIES:
DESCRIPTION:Led by Rev'd Ben Hudd and Churchwarden Jenny.   \n\nEach week 
 Rev'd Ben will record the bible reading\, provide input and discussion wit
 h questions so that those that are not able to attend in person can still 
 join in on the journey together if they wish to online.  Please do let the
  churchwardens know if you wish to attend or if you wish to follow online.
  - email : Churchwardens@stglvias.org.uk
GEO:-5.099582;50.170576
LOCATION:St Gluvias Church
URL:https://www.achurchnearyou.com/church/2372/service-and-events/events/1
 306377/
END:VEVENT
BEGIN:VEVENT
SUMMARY:Lent Course - Crossing the Lake - Mission in Our Place
DTSTART;TZID=Europe/London:20260324T110000
DTEND;TZID=Europe/London:20260324T114500
DTSTAMP:20260423T103650Z
UID:13063772026-03-24 11:00:00+00:00achurchnearyou
CATEGORIES:
DESCRIPTION:Led by Rev'd Ben Hudd and Churchwarden Jenny.   \n\nEach week 
 Rev'd Ben will record the bible reading\, provide input and discussion wit
 h questions so that those that are not able to attend in person can still 
 join in on the journey together if they wish to online.  Please do let the
  churchwardens know if you wish to attend or if you wish to follow online.
  - email : Churchwardens@stglvias.org.uk
GEO:-5.099582;50.170576
LOCATION:St Gluvias Church
URL:https://www.achurchnearyou.com/church/2372/service-and-events/events/1
 306377/
END:VEVENT
BEGIN:VEVENT
SUMMARY:Lent Course - Crossing the Lake - Mission in Our Place
DTSTART;TZID=Europe/London:20260331T110000
DTEND;TZID=Europe/London:20260331T114500
DTSTAMP:20260423T103650Z
UID:13063772026-03-31 11:00:00+01:00achurchnearyou
CATEGORIES:
DESCRIPTION:Led by Rev'd Ben Hudd and Churchwarden Jenny.   \n\nEach week 
 Rev'd Ben will record the bible reading\, provide input and discussion wit
 h questions so that those that are not able to attend in person can still 
 join in on the journey together if they wish to online.  Please do let the
  churchwardens know if you wish to attend or if you wish to follow online.
  - email : Churchwardens@stglvias.org.uk
GEO:-5.099582;50.170576
LOCATION:St Gluvias Church
URL:https://www.achurchnearyou.com/church/2372/service-and-events/events/1
 306377/
END:VEVENT
END:VCALENDAR
