BEGIN:VCALENDAR
VERSION:2.0
PRODID:-//achurchnearyou.com//eventfeed//EN
CALSCALE:GREGORIAN
METHOD:PUBLISH
X-WR-TIMEZONE:UTC
BEGIN:VEVENT
SUMMARY:Holy Communion at Cury Church
DTSTART;TZID=Europe/London:20260405T093000
DTEND;TZID=Europe/London:20260405T103000
DTSTAMP:20260421T183933Z
UID:10427861775377800.0achurchnearyou
CATEGORIES:
DESCRIPTION:Holy Communion service every first Sunday of the month.
GEO:-5.269066;50.038941
LOCATION:Cury: St Corentyn
URL:https://www.achurchnearyou.com/church/2383/service-and-events/events/1
 042786/
END:VEVENT
BEGIN:VEVENT
SUMMARY:Holy Communion at Gunwalloe Church
DTSTART;TZID=Europe/London:20260412T150000
DTEND;TZID=Europe/London:20260412T160000
DTSTAMP:20260421T183933Z
UID:9630961776002400.0achurchnearyou
CATEGORIES:
DESCRIPTION:Holy Communion in the Celtic Tradition at St. Winwaloe Church 
 (The Church of the storms)\, Gunwalloe every 2nd Sunday of the month.
GEO:-5.269066;50.038941
LOCATION:Gunwalloe: St Winwaloe
URL:https://www.achurchnearyou.com/church/2383/service-and-events/events/9
 63096/
END:VEVENT
BEGIN:VEVENT
SUMMARY:Non Communion Service at Cury Church
DTSTART;TZID=Europe/London:20260419T093000
DTEND;TZID=Europe/London:20260419T103000
DTSTAMP:20260421T183933Z
UID:10427871776587400.0achurchnearyou
CATEGORIES:
DESCRIPTION:Service to be led by a Churchwarden or visiting priest on the 
 3rd Sunday of the month.
GEO:-5.269066;50.038941
LOCATION:Cury: St Corentyn
URL:https://www.achurchnearyou.com/church/2383/service-and-events/events/1
 042787/
END:VEVENT
BEGIN:VEVENT
SUMMARY:Holy Communion (BCP) at Gunwalloe
DTSTART;TZID=Europe/London:20260426T150000
DTEND;TZID=Europe/London:20260426T160000
DTSTAMP:20260421T183933Z
UID:10253951777212000.0achurchnearyou
CATEGORIES:
DESCRIPTION:A service of Holy Communion at the church of St.Winwaloe\, Gun
 walloe.
GEO:-5.269066;50.038941
LOCATION:Gunwalloe: St Winwaloe
URL:https://www.achurchnearyou.com/church/2383/service-and-events/events/1
 025395/
END:VEVENT
BEGIN:VEVENT
SUMMARY:Holy Communion at Cury Church
DTSTART;TZID=Europe/London:20260503T093000
DTEND;TZID=Europe/London:20260503T103000
DTSTAMP:20260421T183933Z
UID:10427861777797000.0achurchnearyou
CATEGORIES:
DESCRIPTION:Holy Communion service every first Sunday of the month.
GEO:-5.269066;50.038941
LOCATION:Cury: St Corentyn
URL:https://www.achurchnearyou.com/church/2383/service-and-events/events/1
 042786/
END:VEVENT
BEGIN:VEVENT
SUMMARY:Holy Communion at Gunwalloe Church
DTSTART;TZID=Europe/London:20260510T150000
DTEND;TZID=Europe/London:20260510T160000
DTSTAMP:20260421T183933Z
UID:9630961778421600.0achurchnearyou
CATEGORIES:
DESCRIPTION:Holy Communion in the Celtic Tradition at St. Winwaloe Church 
 (The Church of the storms)\, Gunwalloe every 2nd Sunday of the month.
GEO:-5.269066;50.038941
LOCATION:Gunwalloe: St Winwaloe
URL:https://www.achurchnearyou.com/church/2383/service-and-events/events/9
 63096/
END:VEVENT
BEGIN:VEVENT
SUMMARY:Non Communion Service at Cury Church
DTSTART;TZID=Europe/London:20260517T093000
DTEND;TZID=Europe/London:20260517T103000
DTSTAMP:20260421T183933Z
UID:10427871779006600.0achurchnearyou
CATEGORIES:
DESCRIPTION:Service to be led by a Churchwarden or visiting priest on the 
 3rd Sunday of the month.
GEO:-5.269066;50.038941
LOCATION:Cury: St Corentyn
URL:https://www.achurchnearyou.com/church/2383/service-and-events/events/1
 042787/
END:VEVENT
BEGIN:VEVENT
SUMMARY:Holy Communion (BCP) at Gunwalloe
DTSTART;TZID=Europe/London:20260524T150000
DTEND;TZID=Europe/London:20260524T160000
DTSTAMP:20260421T183933Z
UID:10253951779631200.0achurchnearyou
CATEGORIES:
DESCRIPTION:A service of Holy Communion at the church of St.Winwaloe\, Gun
 walloe.
GEO:-5.269066;50.038941
LOCATION:Gunwalloe: St Winwaloe
URL:https://www.achurchnearyou.com/church/2383/service-and-events/events/1
 025395/
END:VEVENT
BEGIN:VEVENT
SUMMARY:Holy Communion at Cury Church
DTSTART;TZID=Europe/London:20260607T093000
DTEND;TZID=Europe/London:20260607T103000
DTSTAMP:20260421T183933Z
UID:10427861780821000.0achurchnearyou
CATEGORIES:
DESCRIPTION:Holy Communion service every first Sunday of the month.
GEO:-5.269066;50.038941
LOCATION:Cury: St Corentyn
URL:https://www.achurchnearyou.com/church/2383/service-and-events/events/1
 042786/
END:VEVENT
BEGIN:VEVENT
SUMMARY:Holy Communion at Gunwalloe Church
DTSTART;TZID=Europe/London:20260614T150000
DTEND;TZID=Europe/London:20260614T160000
DTSTAMP:20260421T183933Z
UID:9630961781445600.0achurchnearyou
CATEGORIES:
DESCRIPTION:Holy Communion in the Celtic Tradition at St. Winwaloe Church 
 (The Church of the storms)\, Gunwalloe every 2nd Sunday of the month.
GEO:-5.269066;50.038941
LOCATION:Gunwalloe: St Winwaloe
URL:https://www.achurchnearyou.com/church/2383/service-and-events/events/9
 63096/
END:VEVENT
BEGIN:VEVENT
SUMMARY:Non Communion Service at Cury Church
DTSTART;TZID=Europe/London:20260621T093000
DTEND;TZID=Europe/London:20260621T103000
DTSTAMP:20260421T183933Z
UID:10427871782030600.0achurchnearyou
CATEGORIES:
DESCRIPTION:Service to be led by a Churchwarden or visiting priest on the 
 3rd Sunday of the month.
GEO:-5.269066;50.038941
LOCATION:Cury: St Corentyn
URL:https://www.achurchnearyou.com/church/2383/service-and-events/events/1
 042787/
END:VEVENT
BEGIN:VEVENT
SUMMARY:Holy Communion (BCP) at Gunwalloe
DTSTART;TZID=Europe/London:20260628T150000
DTEND;TZID=Europe/London:20260628T160000
DTSTAMP:20260421T183933Z
UID:10253951782655200.0achurchnearyou
CATEGORIES:
DESCRIPTION:A service of Holy Communion at the church of St.Winwaloe\, Gun
 walloe.
GEO:-5.269066;50.038941
LOCATION:Gunwalloe: St Winwaloe
URL:https://www.achurchnearyou.com/church/2383/service-and-events/events/1
 025395/
END:VEVENT
BEGIN:VEVENT
SUMMARY:Holy Communion at Cury Church
DTSTART;TZID=Europe/London:20260705T093000
DTEND;TZID=Europe/London:20260705T103000
DTSTAMP:20260421T183933Z
UID:10427861783240200.0achurchnearyou
CATEGORIES:
DESCRIPTION:Holy Communion service every first Sunday of the month.
GEO:-5.269066;50.038941
LOCATION:Cury: St Corentyn
URL:https://www.achurchnearyou.com/church/2383/service-and-events/events/1
 042786/
END:VEVENT
BEGIN:VEVENT
SUMMARY:Holy Communion at Gunwalloe Church
DTSTART;TZID=Europe/London:20260712T150000
DTEND;TZID=Europe/London:20260712T160000
DTSTAMP:20260421T183933Z
UID:9630961783864800.0achurchnearyou
CATEGORIES:
DESCRIPTION:Holy Communion in the Celtic Tradition at St. Winwaloe Church 
 (The Church of the storms)\, Gunwalloe every 2nd Sunday of the month.
GEO:-5.269066;50.038941
LOCATION:Gunwalloe: St Winwaloe
URL:https://www.achurchnearyou.com/church/2383/service-and-events/events/9
 63096/
END:VEVENT
BEGIN:VEVENT
SUMMARY:Non Communion Service at Cury Church
DTSTART;TZID=Europe/London:20260719T093000
DTEND;TZID=Europe/London:20260719T103000
DTSTAMP:20260421T183933Z
UID:10427871784449800.0achurchnearyou
CATEGORIES:
DESCRIPTION:Service to be led by a Churchwarden or visiting priest on the 
 3rd Sunday of the month.
GEO:-5.269066;50.038941
LOCATION:Cury: St Corentyn
URL:https://www.achurchnearyou.com/church/2383/service-and-events/events/1
 042787/
END:VEVENT
BEGIN:VEVENT
SUMMARY:Holy Communion (BCP) at Gunwalloe
DTSTART;TZID=Europe/London:20260726T150000
DTEND;TZID=Europe/London:20260726T160000
DTSTAMP:20260421T183933Z
UID:10253951785074400.0achurchnearyou
CATEGORIES:
DESCRIPTION:A service of Holy Communion at the church of St.Winwaloe\, Gun
 walloe.
GEO:-5.269066;50.038941
LOCATION:Gunwalloe: St Winwaloe
URL:https://www.achurchnearyou.com/church/2383/service-and-events/events/1
 025395/
END:VEVENT
BEGIN:VEVENT
SUMMARY:Holy Communion at Cury Church
DTSTART;TZID=Europe/London:20260802T093000
DTEND;TZID=Europe/London:20260802T103000
DTSTAMP:20260421T183933Z
UID:10427861785659400.0achurchnearyou
CATEGORIES:
DESCRIPTION:Holy Communion service every first Sunday of the month.
GEO:-5.269066;50.038941
LOCATION:Cury: St Corentyn
URL:https://www.achurchnearyou.com/church/2383/service-and-events/events/1
 042786/
END:VEVENT
BEGIN:VEVENT
SUMMARY:Holy Communion at Gunwalloe Church
DTSTART;TZID=Europe/London:20260809T150000
DTEND;TZID=Europe/London:20260809T160000
DTSTAMP:20260421T183933Z
UID:9630961786284000.0achurchnearyou
CATEGORIES:
DESCRIPTION:Holy Communion in the Celtic Tradition at St. Winwaloe Church 
 (The Church of the storms)\, Gunwalloe every 2nd Sunday of the month.
GEO:-5.269066;50.038941
LOCATION:Gunwalloe: St Winwaloe
URL:https://www.achurchnearyou.com/church/2383/service-and-events/events/9
 63096/
END:VEVENT
BEGIN:VEVENT
SUMMARY:Non Communion Service at Cury Church
DTSTART;TZID=Europe/London:20260816T093000
DTEND;TZID=Europe/London:20260816T103000
DTSTAMP:20260421T183933Z
UID:10427871786869000.0achurchnearyou
CATEGORIES:
DESCRIPTION:Service to be led by a Churchwarden or visiting priest on the 
 3rd Sunday of the month.
GEO:-5.269066;50.038941
LOCATION:Cury: St Corentyn
URL:https://www.achurchnearyou.com/church/2383/service-and-events/events/1
 042787/
END:VEVENT
BEGIN:VEVENT
SUMMARY:Holy Communion (BCP) at Gunwalloe
DTSTART;TZID=Europe/London:20260823T150000
DTEND;TZID=Europe/London:20260823T160000
DTSTAMP:20260421T183933Z
UID:10253951787493600.0achurchnearyou
CATEGORIES:
DESCRIPTION:A service of Holy Communion at the church of St.Winwaloe\, Gun
 walloe.
GEO:-5.269066;50.038941
LOCATION:Gunwalloe: St Winwaloe
URL:https://www.achurchnearyou.com/church/2383/service-and-events/events/1
 025395/
END:VEVENT
BEGIN:VEVENT
SUMMARY:Holy Communion at Cury Church
DTSTART;TZID=Europe/London:20260906T093000
DTEND;TZID=Europe/London:20260906T103000
DTSTAMP:20260421T183933Z
UID:10427861788683400.0achurchnearyou
CATEGORIES:
DESCRIPTION:Holy Communion service every first Sunday of the month.
GEO:-5.269066;50.038941
LOCATION:Cury: St Corentyn
URL:https://www.achurchnearyou.com/church/2383/service-and-events/events/1
 042786/
END:VEVENT
BEGIN:VEVENT
SUMMARY:Holy Communion at Gunwalloe Church
DTSTART;TZID=Europe/London:20260913T150000
DTEND;TZID=Europe/London:20260913T160000
DTSTAMP:20260421T183933Z
UID:9630961789308000.0achurchnearyou
CATEGORIES:
DESCRIPTION:Holy Communion in the Celtic Tradition at St. Winwaloe Church 
 (The Church of the storms)\, Gunwalloe every 2nd Sunday of the month.
GEO:-5.269066;50.038941
LOCATION:Gunwalloe: St Winwaloe
URL:https://www.achurchnearyou.com/church/2383/service-and-events/events/9
 63096/
END:VEVENT
BEGIN:VEVENT
SUMMARY:Non Communion Service at Cury Church
DTSTART;TZID=Europe/London:20260920T093000
DTEND;TZID=Europe/London:20260920T103000
DTSTAMP:20260421T183933Z
UID:10427871789893000.0achurchnearyou
CATEGORIES:
DESCRIPTION:Service to be led by a Churchwarden or visiting priest on the 
 3rd Sunday of the month.
GEO:-5.269066;50.038941
LOCATION:Cury: St Corentyn
URL:https://www.achurchnearyou.com/church/2383/service-and-events/events/1
 042787/
END:VEVENT
BEGIN:VEVENT
SUMMARY:Holy Communion (BCP) at Gunwalloe
DTSTART;TZID=Europe/London:20260927T150000
DTEND;TZID=Europe/London:20260927T160000
DTSTAMP:20260421T183933Z
UID:10253951790517600.0achurchnearyou
CATEGORIES:
DESCRIPTION:A service of Holy Communion at the church of St.Winwaloe\, Gun
 walloe.
GEO:-5.269066;50.038941
LOCATION:Gunwalloe: St Winwaloe
URL:https://www.achurchnearyou.com/church/2383/service-and-events/events/1
 025395/
END:VEVENT
END:VCALENDAR
