BEGIN:VCALENDAR
VERSION:2.0
PRODID:-//achurchnearyou.com//eventfeed//EN
CALSCALE:GREGORIAN
METHOD:PUBLISH
X-WR-TIMEZONE:UTC
BEGIN:VEVENT
SUMMARY:Sung Matins BCP
DTSTART:20260531T083000Z
DTEND:20260531T091500Z
DTSTAMP:20260422T110551Z
UID:9360692026-05-31 08:30:00+00:00achurchnearyou
CATEGORIES:
DESCRIPTION:Morning prayer
GEO:-5.316039;50.086708
LOCATION:Porthleven: St Bartholomew
URL:https://www.achurchnearyou.com/church/2391/service-and-events/events/9
 36069/
END:VEVENT
END:VCALENDAR
