BEGIN:VCALENDAR
VERSION:2.0
PRODID:-//achurchnearyou.com//eventfeed//EN
CALSCALE:GREGORIAN
METHOD:PUBLISH
X-WR-TIMEZONE:UTC
BEGIN:VEVENT
SUMMARY:Service List - Come and Join us
DTSTART;TZID=Europe/London:20260405T093000
DTEND;TZID=Europe/London:20260405T103000
DTSTAMP:20260422T135244Z
UID:12195511775377800.0achurchnearyou
CATEGORIES:
DESCRIPTION:Venue\nSt Saviour\nAddress\nRingley Radcliffe\, M26 1GT\, Unit
 ed Kingdom\nSt Saviours\, Ringley - 9:30am Sunday\nSt Stephens\, Kearsley 
 - 9:30am Sunday\nSt John the Evangelist\, Farnworth - 11am\nHoly Trinity\,
  Prestolee - 6pm First Sunday of every month.\n\nFamily Healing Hub Servic
 e is on the third SATURDAY of the month at 9:30am at Holy Trinity Church\,
  Prestolee.
GEO:-2.388249;53.548572
LOCATION:St John the Evangelist\nSt Stephen\nHoly Trinity\nSt Saviour
URL:https://www.achurchnearyou.com/church/16062/service-and-events/events/
 1219551/
END:VEVENT
BEGIN:VEVENT
SUMMARY:Service List - Come and Join us
DTSTART;TZID=Europe/London:20260412T093000
DTEND;TZID=Europe/London:20260412T103000
DTSTAMP:20260422T135244Z
UID:12195511775982600.0achurchnearyou
CATEGORIES:
DESCRIPTION:Venue\nSt Saviour\nAddress\nRingley Radcliffe\, M26 1GT\, Unit
 ed Kingdom\nSt Saviours\, Ringley - 9:30am Sunday\nSt Stephens\, Kearsley 
 - 9:30am Sunday\nSt John the Evangelist\, Farnworth - 11am\nHoly Trinity\,
  Prestolee - 6pm First Sunday of every month.\n\nFamily Healing Hub Servic
 e is on the third SATURDAY of the month at 9:30am at Holy Trinity Church\,
  Prestolee.
GEO:-2.388249;53.548572
LOCATION:St John the Evangelist\nSt Stephen\nHoly Trinity\nSt Saviour
URL:https://www.achurchnearyou.com/church/16062/service-and-events/events/
 1219551/
END:VEVENT
BEGIN:VEVENT
SUMMARY:Service List - Come and Join us
DTSTART;TZID=Europe/London:20260419T093000
DTEND;TZID=Europe/London:20260419T103000
DTSTAMP:20260422T135244Z
UID:12195511776587400.0achurchnearyou
CATEGORIES:
DESCRIPTION:Venue\nSt Saviour\nAddress\nRingley Radcliffe\, M26 1GT\, Unit
 ed Kingdom\nSt Saviours\, Ringley - 9:30am Sunday\nSt Stephens\, Kearsley 
 - 9:30am Sunday\nSt John the Evangelist\, Farnworth - 11am\nHoly Trinity\,
  Prestolee - 6pm First Sunday of every month.\n\nFamily Healing Hub Servic
 e is on the third SATURDAY of the month at 9:30am at Holy Trinity Church\,
  Prestolee.
GEO:-2.388249;53.548572
LOCATION:St John the Evangelist\nSt Stephen\nHoly Trinity\nSt Saviour
URL:https://www.achurchnearyou.com/church/16062/service-and-events/events/
 1219551/
END:VEVENT
BEGIN:VEVENT
SUMMARY:Service List - Come and Join us
DTSTART;TZID=Europe/London:20260426T093000
DTEND;TZID=Europe/London:20260426T103000
DTSTAMP:20260422T135244Z
UID:12195511777192200.0achurchnearyou
CATEGORIES:
DESCRIPTION:Venue\nSt Saviour\nAddress\nRingley Radcliffe\, M26 1GT\, Unit
 ed Kingdom\nSt Saviours\, Ringley - 9:30am Sunday\nSt Stephens\, Kearsley 
 - 9:30am Sunday\nSt John the Evangelist\, Farnworth - 11am\nHoly Trinity\,
  Prestolee - 6pm First Sunday of every month.\n\nFamily Healing Hub Servic
 e is on the third SATURDAY of the month at 9:30am at Holy Trinity Church\,
  Prestolee.
GEO:-2.388249;53.548572
LOCATION:St John the Evangelist\nSt Stephen\nHoly Trinity\nSt Saviour
URL:https://www.achurchnearyou.com/church/16062/service-and-events/events/
 1219551/
END:VEVENT
BEGIN:VEVENT
SUMMARY:Service List - Come and Join us
DTSTART;TZID=Europe/London:20260503T093000
DTEND;TZID=Europe/London:20260503T103000
DTSTAMP:20260422T135244Z
UID:12195511777797000.0achurchnearyou
CATEGORIES:
DESCRIPTION:Venue\nSt Saviour\nAddress\nRingley Radcliffe\, M26 1GT\, Unit
 ed Kingdom\nSt Saviours\, Ringley - 9:30am Sunday\nSt Stephens\, Kearsley 
 - 9:30am Sunday\nSt John the Evangelist\, Farnworth - 11am\nHoly Trinity\,
  Prestolee - 6pm First Sunday of every month.\n\nFamily Healing Hub Servic
 e is on the third SATURDAY of the month at 9:30am at Holy Trinity Church\,
  Prestolee.
GEO:-2.388249;53.548572
LOCATION:St John the Evangelist\nSt Stephen\nHoly Trinity\nSt Saviour
URL:https://www.achurchnearyou.com/church/16062/service-and-events/events/
 1219551/
END:VEVENT
BEGIN:VEVENT
SUMMARY:Service List - Come and Join us
DTSTART;TZID=Europe/London:20260510T093000
DTEND;TZID=Europe/London:20260510T103000
DTSTAMP:20260422T135244Z
UID:12195511778401800.0achurchnearyou
CATEGORIES:
DESCRIPTION:Venue\nSt Saviour\nAddress\nRingley Radcliffe\, M26 1GT\, Unit
 ed Kingdom\nSt Saviours\, Ringley - 9:30am Sunday\nSt Stephens\, Kearsley 
 - 9:30am Sunday\nSt John the Evangelist\, Farnworth - 11am\nHoly Trinity\,
  Prestolee - 6pm First Sunday of every month.\n\nFamily Healing Hub Servic
 e is on the third SATURDAY of the month at 9:30am at Holy Trinity Church\,
  Prestolee.
GEO:-2.388249;53.548572
LOCATION:St John the Evangelist\nSt Stephen\nHoly Trinity\nSt Saviour
URL:https://www.achurchnearyou.com/church/16062/service-and-events/events/
 1219551/
END:VEVENT
BEGIN:VEVENT
SUMMARY:Service List - Come and Join us
DTSTART;TZID=Europe/London:20260517T093000
DTEND;TZID=Europe/London:20260517T103000
DTSTAMP:20260422T135244Z
UID:12195511779006600.0achurchnearyou
CATEGORIES:
DESCRIPTION:Venue\nSt Saviour\nAddress\nRingley Radcliffe\, M26 1GT\, Unit
 ed Kingdom\nSt Saviours\, Ringley - 9:30am Sunday\nSt Stephens\, Kearsley 
 - 9:30am Sunday\nSt John the Evangelist\, Farnworth - 11am\nHoly Trinity\,
  Prestolee - 6pm First Sunday of every month.\n\nFamily Healing Hub Servic
 e is on the third SATURDAY of the month at 9:30am at Holy Trinity Church\,
  Prestolee.
GEO:-2.388249;53.548572
LOCATION:St John the Evangelist\nSt Stephen\nHoly Trinity\nSt Saviour
URL:https://www.achurchnearyou.com/church/16062/service-and-events/events/
 1219551/
END:VEVENT
BEGIN:VEVENT
SUMMARY:Service List - Come and Join us
DTSTART;TZID=Europe/London:20260524T093000
DTEND;TZID=Europe/London:20260524T103000
DTSTAMP:20260422T135244Z
UID:12195511779611400.0achurchnearyou
CATEGORIES:
DESCRIPTION:Venue\nSt Saviour\nAddress\nRingley Radcliffe\, M26 1GT\, Unit
 ed Kingdom\nSt Saviours\, Ringley - 9:30am Sunday\nSt Stephens\, Kearsley 
 - 9:30am Sunday\nSt John the Evangelist\, Farnworth - 11am\nHoly Trinity\,
  Prestolee - 6pm First Sunday of every month.\n\nFamily Healing Hub Servic
 e is on the third SATURDAY of the month at 9:30am at Holy Trinity Church\,
  Prestolee.
GEO:-2.388249;53.548572
LOCATION:St John the Evangelist\nSt Stephen\nHoly Trinity\nSt Saviour
URL:https://www.achurchnearyou.com/church/16062/service-and-events/events/
 1219551/
END:VEVENT
BEGIN:VEVENT
SUMMARY:Service List - Come and Join us
DTSTART;TZID=Europe/London:20260531T093000
DTEND;TZID=Europe/London:20260531T103000
DTSTAMP:20260422T135244Z
UID:12195511780216200.0achurchnearyou
CATEGORIES:
DESCRIPTION:Venue\nSt Saviour\nAddress\nRingley Radcliffe\, M26 1GT\, Unit
 ed Kingdom\nSt Saviours\, Ringley - 9:30am Sunday\nSt Stephens\, Kearsley 
 - 9:30am Sunday\nSt John the Evangelist\, Farnworth - 11am\nHoly Trinity\,
  Prestolee - 6pm First Sunday of every month.\n\nFamily Healing Hub Servic
 e is on the third SATURDAY of the month at 9:30am at Holy Trinity Church\,
  Prestolee.
GEO:-2.388249;53.548572
LOCATION:St John the Evangelist\nSt Stephen\nHoly Trinity\nSt Saviour
URL:https://www.achurchnearyou.com/church/16062/service-and-events/events/
 1219551/
END:VEVENT
END:VCALENDAR
