BEGIN:VCALENDAR
VERSION:2.0
PRODID:-//achurchnearyou.com//eventfeed//EN
CALSCALE:GREGORIAN
METHOD:PUBLISH
X-WR-TIMEZONE:UTC
BEGIN:VEVENT
SUMMARY:Concert by Benjamin Luke Sutcliffe
DTSTART:20251129T190000Z
DTEND:20251129T213000Z
DTSTAMP:20260425T183757Z
UID:12344672025-11-29 19:00:00+00:00achurchnearyou
CATEGORIES:
DESCRIPTION:Benjamin Luke Sutcliffe is a seasoned composer and performer w
 hose music blends heartfelt songwriting with Celtic roots and classical in
 fluences.  With a voice full of soul and a violin that sings\, Ben’s per
 formance is a rich tapestry of original songs\, storytelling\, and evocati
 ve instrumentals.  Drawing from Cornish landscapes\, personal histories\, 
 and timeless traditions\, he creates a powerful and intimate experience.  
 A familiar face in Cornwall’s music and theatre scene\, Ben brings warmt
 h\, wit\, and musical depth to every performance. Expect honesty\, humanit
 y\, and a few surprises from this quietly charismatic performer.\n\nTicket
 s £12 each\, only available on the door.  Doors and bar open from 6.30pm.
   Ample free parking available in the farmyard adjacent to the church.
GEO:-5.428978;50.131117
LOCATION:St Hilary
URL:https://www.achurchnearyou.com/church/2412/service-and-events/events/1
 234467/
END:VEVENT
END:VCALENDAR
