BEGIN:VCALENDAR
VERSION:2.0
PRODID:-//achurchnearyou.com//eventfeed//EN
CALSCALE:GREGORIAN
METHOD:PUBLISH
X-WR-TIMEZONE:UTC
BEGIN:VEVENT
SUMMARY:All-Age Eucharist for Christmas Day
DTSTART:20251225T110000Z
DTEND:20251225T120000Z
DTSTAMP:20260425T165354Z
UID:8734862025-12-25 11:00:00+00:00achurchnearyou
CATEGORIES:
DESCRIPTION:An all-age service celebrating the birth of our Lord Jesus Chr
 ist.\nPresident and Preacher: Father Jeff Risbridger\, Focal Priest for St
  Hilary Church
GEO:-5.428978;50.131117
LOCATION:St Hilary
URL:https://www.achurchnearyou.com/church/2412/service-and-events/events/8
 73486/
END:VEVENT
END:VCALENDAR
