BEGIN:VCALENDAR
VERSION:2.0
PRODID:-//achurchnearyou.com//eventfeed//EN
CALSCALE:GREGORIAN
METHOD:PUBLISH
X-WR-TIMEZONE:UTC
BEGIN:VEVENT
SUMMARY:Maundy Thursday Service
DTSTART:20260402T160000Z
DTEND:20260402T170000Z
DTSTAMP:20260425T234237Z
UID:13197332026-04-02 16:00:00+00:00achurchnearyou
CATEGORIES:
DESCRIPTION:On Maundy Thursday we will be holding a Service of Holy Commun
 ion with Footwashing\n\nNote:  Jesus washing the feet of the disciples (Jo
 hn 13:1–17) occurred in the upper room during the Last Supper and has si
 gnificance in three ways. For Jesus\, it was the display of His humility a
 nd servanthood in forgiving sinners. For the disciples\, the washing of th
 eir feet displayed a mindset in direct contrast to their heart attitude at
  that time. For us\, washing feet is symbolic of our role in the body of C
 hrist.
GEO:-5.678972;50.124662
LOCATION:St Just-in-Penwith Parish Church
URL:https://www.achurchnearyou.com/church/2414/service-and-events/events/1
 319733/
END:VEVENT
END:VCALENDAR
