BEGIN:VCALENDAR
VERSION:2.0
PRODID:-//achurchnearyou.com//eventfeed//EN
CALSCALE:GREGORIAN
METHOD:PUBLISH
X-WR-TIMEZONE:UTC
BEGIN:VEVENT
SUMMARY:Film and Pud night
DTSTART:20260424T180000Z
DTEND:20260424T201500Z
DTSTAMP:20260422T172800Z
UID:13137902026-04-24 18:00:00+00:00achurchnearyou
CATEGORIES:
DESCRIPTION:Join us in the Murley Hall where we will be watching Finding y
 our Feet’ - a romantic comedy.  After the entertainment comes the refres
 hments   A wonderful selection of cold puddings.
GEO:-5.493363;50.144805
LOCATION:Ludgvan: St Paul
URL:https://www.achurchnearyou.com/church/2416/service-and-events/events/1
 313790/
END:VEVENT
END:VCALENDAR
