BEGIN:VCALENDAR
VERSION:2.0
PRODID:-//achurchnearyou.com//eventfeed//EN
CALSCALE:GREGORIAN
METHOD:PUBLISH
X-WR-TIMEZONE:UTC
BEGIN:VEVENT
SUMMARY:Easter Day Holy Communion
DTSTART;TZID=Europe/London:20260405T100000
DTEND;TZID=Europe/London:20260405T110000
DTSTAMP:20260426T004100Z
UID:13219401775379600.0achurchnearyou
CATEGORIES:
DESCRIPTION:Eucharist led by Revd Chris Parsons
GEO:-5.050224;50.205975
LOCATION:The Waterside Benefice - St Feock
URL:https://www.achurchnearyou.com/church/2423/service-and-events/events/1
 321940/
END:VEVENT
BEGIN:VEVENT
SUMMARY:Friday Lunch Club
DTSTART;TZID=Europe/London:20260410T123000
DTEND;TZID=Europe/London:20260410T143000
DTSTAMP:20260426T004100Z
UID:3250661775820600.0achurchnearyou
CATEGORIES:
DESCRIPTION:Good company and two courses of home-cooked food in the Church
  Hall for just £7.50
LOCATION:St Feock Church Community Hall
URL:https://www.stfeockchurch.co.uk/news.html
END:VEVENT
BEGIN:VEVENT
SUMMARY:Friday Lunch Club
DTSTART;TZID=Europe/London:20260424T123000
DTEND;TZID=Europe/London:20260424T143000
DTSTAMP:20260426T004100Z
UID:3250661777030200.0achurchnearyou
CATEGORIES:
DESCRIPTION:Good company and two courses of home-cooked food in the Church
  Hall for just £7.50
LOCATION:St Feock Church Community Hall
URL:https://www.stfeockchurch.co.uk/news.html
END:VEVENT
BEGIN:VEVENT
SUMMARY:Friday Lunch Club
DTSTART;TZID=Europe/London:20260508T123000
DTEND;TZID=Europe/London:20260508T143000
DTSTAMP:20260426T004100Z
UID:3250661778239800.0achurchnearyou
CATEGORIES:
DESCRIPTION:Good company and two courses of home-cooked food in the Church
  Hall for just £7.50
LOCATION:St Feock Church Community Hall
URL:https://www.stfeockchurch.co.uk/news.html
END:VEVENT
BEGIN:VEVENT
SUMMARY:Friday Lunch Club
DTSTART;TZID=Europe/London:20260522T123000
DTEND;TZID=Europe/London:20260522T143000
DTSTAMP:20260426T004100Z
UID:3250661779449400.0achurchnearyou
CATEGORIES:
DESCRIPTION:Good company and two courses of home-cooked food in the Church
  Hall for just £7.50
LOCATION:St Feock Church Community Hall
URL:https://www.stfeockchurch.co.uk/news.html
END:VEVENT
BEGIN:VEVENT
SUMMARY:Friday Lunch Club
DTSTART;TZID=Europe/London:20260612T123000
DTEND;TZID=Europe/London:20260612T143000
DTSTAMP:20260426T004100Z
UID:3250661781263800.0achurchnearyou
CATEGORIES:
DESCRIPTION:Good company and two courses of home-cooked food in the Church
  Hall for just £7.50
LOCATION:St Feock Church Community Hall
URL:https://www.stfeockchurch.co.uk/news.html
END:VEVENT
BEGIN:VEVENT
SUMMARY:Friday Lunch Club
DTSTART;TZID=Europe/London:20260626T123000
DTEND;TZID=Europe/London:20260626T143000
DTSTAMP:20260426T004100Z
UID:3250661782473400.0achurchnearyou
CATEGORIES:
DESCRIPTION:Good company and two courses of home-cooked food in the Church
  Hall for just £7.50
LOCATION:St Feock Church Community Hall
URL:https://www.stfeockchurch.co.uk/news.html
END:VEVENT
BEGIN:VEVENT
SUMMARY:Friday Lunch Club
DTSTART;TZID=Europe/London:20260710T123000
DTEND;TZID=Europe/London:20260710T143000
DTSTAMP:20260426T004100Z
UID:3250661783683000.0achurchnearyou
CATEGORIES:
DESCRIPTION:Good company and two courses of home-cooked food in the Church
  Hall for just £7.50
LOCATION:St Feock Church Community Hall
URL:https://www.stfeockchurch.co.uk/news.html
END:VEVENT
BEGIN:VEVENT
SUMMARY:Friday Lunch Club
DTSTART;TZID=Europe/London:20260724T123000
DTEND;TZID=Europe/London:20260724T143000
DTSTAMP:20260426T004100Z
UID:3250661784892600.0achurchnearyou
CATEGORIES:
DESCRIPTION:Good company and two courses of home-cooked food in the Church
  Hall for just £7.50
LOCATION:St Feock Church Community Hall
URL:https://www.stfeockchurch.co.uk/news.html
END:VEVENT
BEGIN:VEVENT
SUMMARY:Friday Lunch Club
DTSTART;TZID=Europe/London:20260814T123000
DTEND;TZID=Europe/London:20260814T143000
DTSTAMP:20260426T004100Z
UID:3250661786707000.0achurchnearyou
CATEGORIES:
DESCRIPTION:Good company and two courses of home-cooked food in the Church
  Hall for just £7.50
LOCATION:St Feock Church Community Hall
URL:https://www.stfeockchurch.co.uk/news.html
END:VEVENT
BEGIN:VEVENT
SUMMARY:Friday Lunch Club
DTSTART;TZID=Europe/London:20260828T123000
DTEND;TZID=Europe/London:20260828T143000
DTSTAMP:20260426T004100Z
UID:3250661787916600.0achurchnearyou
CATEGORIES:
DESCRIPTION:Good company and two courses of home-cooked food in the Church
  Hall for just £7.50
LOCATION:St Feock Church Community Hall
URL:https://www.stfeockchurch.co.uk/news.html
END:VEVENT
BEGIN:VEVENT
SUMMARY:Friday Lunch Club
DTSTART;TZID=Europe/London:20260911T123000
DTEND;TZID=Europe/London:20260911T143000
DTSTAMP:20260426T004100Z
UID:3250661789126200.0achurchnearyou
CATEGORIES:
DESCRIPTION:Good company and two courses of home-cooked food in the Church
  Hall for just £7.50
LOCATION:St Feock Church Community Hall
URL:https://www.stfeockchurch.co.uk/news.html
END:VEVENT
BEGIN:VEVENT
SUMMARY:Friday Lunch Club
DTSTART;TZID=Europe/London:20260925T123000
DTEND;TZID=Europe/London:20260925T143000
DTSTAMP:20260426T004100Z
UID:3250661790335800.0achurchnearyou
CATEGORIES:
DESCRIPTION:Good company and two courses of home-cooked food in the Church
  Hall for just £7.50
LOCATION:St Feock Church Community Hall
URL:https://www.stfeockchurch.co.uk/news.html
END:VEVENT
END:VCALENDAR
