BEGIN:VCALENDAR
VERSION:2.0
PRODID:-//achurchnearyou.com//eventfeed//EN
CALSCALE:GREGORIAN
METHOD:PUBLISH
X-WR-TIMEZONE:UTC
BEGIN:VEVENT
SUMMARY:Coffee Morning
DTSTART:20250813T093000Z
DTEND:20250813T113000Z
DTSTAMP:20260424T161922Z
UID:12132062025-08-13 09:30:00+00:00achurchnearyou
CATEGORIES:
DESCRIPTION:Coffee Morning in aid of the Community Bus
GEO:-4.980946;50.178344
LOCATION:Gerrans: St Gerrans
URL:https://www.achurchnearyou.com/church/2424/service-and-events/events/1
 213206/
END:VEVENT
END:VCALENDAR
