BEGIN:VCALENDAR
VERSION:2.0
PRODID:-//achurchnearyou.com//eventfeed//EN
CALSCALE:GREGORIAN
METHOD:PUBLISH
X-WR-TIMEZONE:UTC
BEGIN:VEVENT
SUMMARY:Eucharist - sixteenth Sunday after Trinity
DTSTART:20251005T090000Z
DTEND:20251005T100000Z
DTSTAMP:20260424T092908Z
UID:12266092025-10-05 09:00:00+00:00achurchnearyou
CATEGORIES:
DESCRIPTION:Holy Communion led by Rev Jill Edwards
GEO:-4.980946;50.178344
LOCATION:Gerrans: St Gerrans
URL:https://www.achurchnearyou.com/church/2424/service-and-events/events/1
 226609/
END:VEVENT
END:VCALENDAR
