BEGIN:VCALENDAR
VERSION:2.0
PRODID:-//achurchnearyou.com//eventfeed//EN
CALSCALE:GREGORIAN
METHOD:PUBLISH
X-WR-TIMEZONE:UTC
BEGIN:VEVENT
SUMMARY:eucharist - Last Sunday after Trinity
DTSTART:20251026T100000Z
DTEND:20251026T110000Z
DTSTAMP:20260424T073502Z
UID:12266312025-10-26 10:00:00+00:00achurchnearyou
CATEGORIES:
DESCRIPTION:Holy Communion led by Rev Jill Edwards
GEO:-4.980946;50.178344
LOCATION:Gerrans: St Gerrans
URL:https://www.achurchnearyou.com/church/2424/service-and-events/events/1
 226631/
END:VEVENT
END:VCALENDAR
