BEGIN:VCALENDAR
VERSION:2.0
PRODID:-//achurchnearyou.com//eventfeed//EN
CALSCALE:GREGORIAN
METHOD:PUBLISH
X-WR-TIMEZONE:UTC
BEGIN:VEVENT
SUMMARY:EUCHARIST - PALM SUNDAY
DTSTART:20260329T090000Z
DTEND:20260329T100000Z
DTSTAMP:20260423T150638Z
UID:12914332026-03-29 09:00:00+00:00achurchnearyou
CATEGORIES:
DESCRIPTION:Holy Communion led by Rev Jill Edwards
GEO:-4.980946;50.178344
LOCATION:Gerrans: St Gerrans
URL:https://www.achurchnearyou.com/church/2424/service-and-events/events/1
 291433/
END:VEVENT
END:VCALENDAR
