BEGIN:VCALENDAR
VERSION:2.0
PRODID:-//achurchnearyou.com//eventfeed//EN
CALSCALE:GREGORIAN
METHOD:PUBLISH
X-WR-TIMEZONE:UTC
BEGIN:VEVENT
SUMMARY:COFFEE MORNING  IN SUPPORT OF CHRISTIAN AID
DTSTART:20260513T093000Z
DTEND:20260513T113000Z
DTSTAMP:20260422T221032Z
UID:13230472026-05-13 09:30:00+00:00achurchnearyou
CATEGORIES:
DESCRIPTION:CHARITY Coffee Morning in support of Christian Aid
GEO:-4.980946;50.178344
LOCATION:Gerrans: St Gerrans
URL:https://www.achurchnearyou.com/church/2424/service-and-events/events/1
 323047/
END:VEVENT
END:VCALENDAR
