BEGIN:VCALENDAR
VERSION:2.0
PRODID:-//achurchnearyou.com//eventfeed//EN
CALSCALE:GREGORIAN
METHOD:PUBLISH
X-WR-TIMEZONE:UTC
BEGIN:VEVENT
SUMMARY:Remembrance Sunday
DTSTART:20251109T104500Z
DTEND:20251109T114500Z
DTSTAMP:20260421T061325Z
UID:12451162025-11-09 10:45:00+00:00achurchnearyou
CATEGORIES:
DESCRIPTION:Join us at 10.45am at the War Memorial for an Act of Remembran
 ce.
GEO:-4.951117;50.292003
LOCATION:Probus: St Probus & St Grace
URL:https://www.achurchnearyou.com/church/2428/service-and-events/events/1
 245116/
END:VEVENT
END:VCALENDAR
