BEGIN:VCALENDAR
VERSION:2.0
PRODID:-//achurchnearyou.com//eventfeed//EN
CALSCALE:GREGORIAN
METHOD:PUBLISH
X-WR-TIMEZONE:UTC
BEGIN:VEVENT
SUMMARY:Together @ Ten
DTSTART:20251228T100000Z
DTEND:20251228T110000Z
DTSTAMP:20260421T022634Z
UID:12761542025-12-28 10:00:00+00:00achurchnearyou
CATEGORIES:
DESCRIPTION:An Upper Fal Benefices United Service at 10am. \nSunday 28th D
 ecember this service will be held at Ladock Church.
LOCATION:Ladock Church
URL:https://www.achurchnearyou.com/church/2428/service-and-events/events/1
 276154/
END:VEVENT
END:VCALENDAR
