BEGIN:VCALENDAR
VERSION:2.0
PRODID:-//achurchnearyou.com//eventfeed//EN
CALSCALE:GREGORIAN
METHOD:PUBLISH
X-WR-TIMEZONE:UTC
BEGIN:VEVENT
SUMMARY:Regular Sunday Morning Communion
DTSTART;TZID=Europe/London:20260405T093000
DTEND;TZID=Europe/London:20260405T103000
DTSTAMP:20260423T132238Z
UID:7235011775377800.0achurchnearyou
CATEGORIES:
DESCRIPTION:Common Worship style of service - excepting 4th Sundays when M
 orning Prayer will be usual.
LOCATION:St Erme: St Hermes
URL:https://www.achurchnearyou.com/church/2435/service-and-events/events/7
 23501/
END:VEVENT
BEGIN:VEVENT
SUMMARY:Regular Sunday Morning Communion
DTSTART;TZID=Europe/London:20260412T093000
DTEND;TZID=Europe/London:20260412T103000
DTSTAMP:20260423T132238Z
UID:7235011775982600.0achurchnearyou
CATEGORIES:
DESCRIPTION:Common Worship style of service - excepting 4th Sundays when M
 orning Prayer will be usual.
LOCATION:St Erme: St Hermes
URL:https://www.achurchnearyou.com/church/2435/service-and-events/events/7
 23501/
END:VEVENT
BEGIN:VEVENT
SUMMARY:Team Service
DTSTART;TZID=Europe/London:20260412T100000
DTEND;TZID=Europe/London:20260412T110000
DTSTAMP:20260423T132238Z
UID:13166771775984400.0achurchnearyou
CATEGORIES:
DESCRIPTION:Communion service at St Erme. This is the only communion servi
 ce in the benefice on this Sunday
GEO:-5.026005;50.309291
LOCATION:St Erme: St Hermes
URL:https://www.achurchnearyou.com/church/2435/service-and-events/events/1
 316677/
END:VEVENT
BEGIN:VEVENT
SUMMARY:Regular Sunday Morning Communion
DTSTART;TZID=Europe/London:20260419T093000
DTEND;TZID=Europe/London:20260419T103000
DTSTAMP:20260423T132238Z
UID:7235011776587400.0achurchnearyou
CATEGORIES:
DESCRIPTION:Common Worship style of service - excepting 4th Sundays when M
 orning Prayer will be usual.
LOCATION:St Erme: St Hermes
URL:https://www.achurchnearyou.com/church/2435/service-and-events/events/7
 23501/
END:VEVENT
BEGIN:VEVENT
SUMMARY:Regular Sunday Morning Communion
DTSTART;TZID=Europe/London:20260426T093000
DTEND;TZID=Europe/London:20260426T103000
DTSTAMP:20260423T132238Z
UID:7235011777192200.0achurchnearyou
CATEGORIES:
DESCRIPTION:Common Worship style of service - excepting 4th Sundays when M
 orning Prayer will be usual.
LOCATION:St Erme: St Hermes
URL:https://www.achurchnearyou.com/church/2435/service-and-events/events/7
 23501/
END:VEVENT
BEGIN:VEVENT
SUMMARY:Regular Sunday Morning Communion
DTSTART;TZID=Europe/London:20260503T093000
DTEND;TZID=Europe/London:20260503T103000
DTSTAMP:20260423T132238Z
UID:7235011777797000.0achurchnearyou
CATEGORIES:
DESCRIPTION:Common Worship style of service - excepting 4th Sundays when M
 orning Prayer will be usual.
LOCATION:St Erme: St Hermes
URL:https://www.achurchnearyou.com/church/2435/service-and-events/events/7
 23501/
END:VEVENT
BEGIN:VEVENT
SUMMARY:Regular Sunday Morning Communion
DTSTART;TZID=Europe/London:20260510T093000
DTEND;TZID=Europe/London:20260510T103000
DTSTAMP:20260423T132238Z
UID:7235011778401800.0achurchnearyou
CATEGORIES:
DESCRIPTION:Common Worship style of service - excepting 4th Sundays when M
 orning Prayer will be usual.
LOCATION:St Erme: St Hermes
URL:https://www.achurchnearyou.com/church/2435/service-and-events/events/7
 23501/
END:VEVENT
BEGIN:VEVENT
SUMMARY:Regular Sunday Morning Communion
DTSTART;TZID=Europe/London:20260517T093000
DTEND;TZID=Europe/London:20260517T103000
DTSTAMP:20260423T132238Z
UID:7235011779006600.0achurchnearyou
CATEGORIES:
DESCRIPTION:Common Worship style of service - excepting 4th Sundays when M
 orning Prayer will be usual.
LOCATION:St Erme: St Hermes
URL:https://www.achurchnearyou.com/church/2435/service-and-events/events/7
 23501/
END:VEVENT
BEGIN:VEVENT
SUMMARY:Regular Sunday Morning Communion
DTSTART;TZID=Europe/London:20260524T093000
DTEND;TZID=Europe/London:20260524T103000
DTSTAMP:20260423T132238Z
UID:7235011779611400.0achurchnearyou
CATEGORIES:
DESCRIPTION:Common Worship style of service - excepting 4th Sundays when M
 orning Prayer will be usual.
LOCATION:St Erme: St Hermes
URL:https://www.achurchnearyou.com/church/2435/service-and-events/events/7
 23501/
END:VEVENT
BEGIN:VEVENT
SUMMARY:Regular Sunday Morning Communion
DTSTART;TZID=Europe/London:20260531T093000
DTEND;TZID=Europe/London:20260531T103000
DTSTAMP:20260423T132238Z
UID:7235011780216200.0achurchnearyou
CATEGORIES:
DESCRIPTION:Common Worship style of service - excepting 4th Sundays when M
 orning Prayer will be usual.
LOCATION:St Erme: St Hermes
URL:https://www.achurchnearyou.com/church/2435/service-and-events/events/7
 23501/
END:VEVENT
BEGIN:VEVENT
SUMMARY:Regular Sunday Morning Communion
DTSTART;TZID=Europe/London:20260607T093000
DTEND;TZID=Europe/London:20260607T103000
DTSTAMP:20260423T132238Z
UID:7235011780821000.0achurchnearyou
CATEGORIES:
DESCRIPTION:Common Worship style of service - excepting 4th Sundays when M
 orning Prayer will be usual.
LOCATION:St Erme: St Hermes
URL:https://www.achurchnearyou.com/church/2435/service-and-events/events/7
 23501/
END:VEVENT
BEGIN:VEVENT
SUMMARY:Regular Sunday Morning Communion
DTSTART;TZID=Europe/London:20260614T093000
DTEND;TZID=Europe/London:20260614T103000
DTSTAMP:20260423T132238Z
UID:7235011781425800.0achurchnearyou
CATEGORIES:
DESCRIPTION:Common Worship style of service - excepting 4th Sundays when M
 orning Prayer will be usual.
LOCATION:St Erme: St Hermes
URL:https://www.achurchnearyou.com/church/2435/service-and-events/events/7
 23501/
END:VEVENT
BEGIN:VEVENT
SUMMARY:Regular Sunday Morning Communion
DTSTART;TZID=Europe/London:20260621T093000
DTEND;TZID=Europe/London:20260621T103000
DTSTAMP:20260423T132238Z
UID:7235011782030600.0achurchnearyou
CATEGORIES:
DESCRIPTION:Common Worship style of service - excepting 4th Sundays when M
 orning Prayer will be usual.
LOCATION:St Erme: St Hermes
URL:https://www.achurchnearyou.com/church/2435/service-and-events/events/7
 23501/
END:VEVENT
BEGIN:VEVENT
SUMMARY:Regular Sunday Morning Communion
DTSTART;TZID=Europe/London:20260628T093000
DTEND;TZID=Europe/London:20260628T103000
DTSTAMP:20260423T132238Z
UID:7235011782635400.0achurchnearyou
CATEGORIES:
DESCRIPTION:Common Worship style of service - excepting 4th Sundays when M
 orning Prayer will be usual.
LOCATION:St Erme: St Hermes
URL:https://www.achurchnearyou.com/church/2435/service-and-events/events/7
 23501/
END:VEVENT
BEGIN:VEVENT
SUMMARY:Regular Sunday Morning Communion
DTSTART;TZID=Europe/London:20260705T093000
DTEND;TZID=Europe/London:20260705T103000
DTSTAMP:20260423T132238Z
UID:7235011783240200.0achurchnearyou
CATEGORIES:
DESCRIPTION:Common Worship style of service - excepting 4th Sundays when M
 orning Prayer will be usual.
LOCATION:St Erme: St Hermes
URL:https://www.achurchnearyou.com/church/2435/service-and-events/events/7
 23501/
END:VEVENT
BEGIN:VEVENT
SUMMARY:Regular Sunday Morning Communion
DTSTART;TZID=Europe/London:20260712T093000
DTEND;TZID=Europe/London:20260712T103000
DTSTAMP:20260423T132238Z
UID:7235011783845000.0achurchnearyou
CATEGORIES:
DESCRIPTION:Common Worship style of service - excepting 4th Sundays when M
 orning Prayer will be usual.
LOCATION:St Erme: St Hermes
URL:https://www.achurchnearyou.com/church/2435/service-and-events/events/7
 23501/
END:VEVENT
BEGIN:VEVENT
SUMMARY:Regular Sunday Morning Communion
DTSTART;TZID=Europe/London:20260719T093000
DTEND;TZID=Europe/London:20260719T103000
DTSTAMP:20260423T132238Z
UID:7235011784449800.0achurchnearyou
CATEGORIES:
DESCRIPTION:Common Worship style of service - excepting 4th Sundays when M
 orning Prayer will be usual.
LOCATION:St Erme: St Hermes
URL:https://www.achurchnearyou.com/church/2435/service-and-events/events/7
 23501/
END:VEVENT
BEGIN:VEVENT
SUMMARY:Regular Sunday Morning Communion
DTSTART;TZID=Europe/London:20260726T093000
DTEND;TZID=Europe/London:20260726T103000
DTSTAMP:20260423T132238Z
UID:7235011785054600.0achurchnearyou
CATEGORIES:
DESCRIPTION:Common Worship style of service - excepting 4th Sundays when M
 orning Prayer will be usual.
LOCATION:St Erme: St Hermes
URL:https://www.achurchnearyou.com/church/2435/service-and-events/events/7
 23501/
END:VEVENT
BEGIN:VEVENT
SUMMARY:Regular Sunday Morning Communion
DTSTART;TZID=Europe/London:20260802T093000
DTEND;TZID=Europe/London:20260802T103000
DTSTAMP:20260423T132238Z
UID:7235011785659400.0achurchnearyou
CATEGORIES:
DESCRIPTION:Common Worship style of service - excepting 4th Sundays when M
 orning Prayer will be usual.
LOCATION:St Erme: St Hermes
URL:https://www.achurchnearyou.com/church/2435/service-and-events/events/7
 23501/
END:VEVENT
BEGIN:VEVENT
SUMMARY:Regular Sunday Morning Communion
DTSTART;TZID=Europe/London:20260809T093000
DTEND;TZID=Europe/London:20260809T103000
DTSTAMP:20260423T132238Z
UID:7235011786264200.0achurchnearyou
CATEGORIES:
DESCRIPTION:Common Worship style of service - excepting 4th Sundays when M
 orning Prayer will be usual.
LOCATION:St Erme: St Hermes
URL:https://www.achurchnearyou.com/church/2435/service-and-events/events/7
 23501/
END:VEVENT
BEGIN:VEVENT
SUMMARY:Regular Sunday Morning Communion
DTSTART;TZID=Europe/London:20260816T093000
DTEND;TZID=Europe/London:20260816T103000
DTSTAMP:20260423T132238Z
UID:7235011786869000.0achurchnearyou
CATEGORIES:
DESCRIPTION:Common Worship style of service - excepting 4th Sundays when M
 orning Prayer will be usual.
LOCATION:St Erme: St Hermes
URL:https://www.achurchnearyou.com/church/2435/service-and-events/events/7
 23501/
END:VEVENT
BEGIN:VEVENT
SUMMARY:Regular Sunday Morning Communion
DTSTART;TZID=Europe/London:20260823T093000
DTEND;TZID=Europe/London:20260823T103000
DTSTAMP:20260423T132238Z
UID:7235011787473800.0achurchnearyou
CATEGORIES:
DESCRIPTION:Common Worship style of service - excepting 4th Sundays when M
 orning Prayer will be usual.
LOCATION:St Erme: St Hermes
URL:https://www.achurchnearyou.com/church/2435/service-and-events/events/7
 23501/
END:VEVENT
BEGIN:VEVENT
SUMMARY:Regular Sunday Morning Communion
DTSTART;TZID=Europe/London:20260830T093000
DTEND;TZID=Europe/London:20260830T103000
DTSTAMP:20260423T132238Z
UID:7235011788078600.0achurchnearyou
CATEGORIES:
DESCRIPTION:Common Worship style of service - excepting 4th Sundays when M
 orning Prayer will be usual.
LOCATION:St Erme: St Hermes
URL:https://www.achurchnearyou.com/church/2435/service-and-events/events/7
 23501/
END:VEVENT
BEGIN:VEVENT
SUMMARY:Regular Sunday Morning Communion
DTSTART;TZID=Europe/London:20260906T093000
DTEND;TZID=Europe/London:20260906T103000
DTSTAMP:20260423T132238Z
UID:7235011788683400.0achurchnearyou
CATEGORIES:
DESCRIPTION:Common Worship style of service - excepting 4th Sundays when M
 orning Prayer will be usual.
LOCATION:St Erme: St Hermes
URL:https://www.achurchnearyou.com/church/2435/service-and-events/events/7
 23501/
END:VEVENT
BEGIN:VEVENT
SUMMARY:Regular Sunday Morning Communion
DTSTART;TZID=Europe/London:20260913T093000
DTEND;TZID=Europe/London:20260913T103000
DTSTAMP:20260423T132238Z
UID:7235011789288200.0achurchnearyou
CATEGORIES:
DESCRIPTION:Common Worship style of service - excepting 4th Sundays when M
 orning Prayer will be usual.
LOCATION:St Erme: St Hermes
URL:https://www.achurchnearyou.com/church/2435/service-and-events/events/7
 23501/
END:VEVENT
BEGIN:VEVENT
SUMMARY:Regular Sunday Morning Communion
DTSTART;TZID=Europe/London:20260920T093000
DTEND;TZID=Europe/London:20260920T103000
DTSTAMP:20260423T132238Z
UID:7235011789893000.0achurchnearyou
CATEGORIES:
DESCRIPTION:Common Worship style of service - excepting 4th Sundays when M
 orning Prayer will be usual.
LOCATION:St Erme: St Hermes
URL:https://www.achurchnearyou.com/church/2435/service-and-events/events/7
 23501/
END:VEVENT
BEGIN:VEVENT
SUMMARY:Regular Sunday Morning Communion
DTSTART;TZID=Europe/London:20260927T093000
DTEND;TZID=Europe/London:20260927T103000
DTSTAMP:20260423T132238Z
UID:7235011790497800.0achurchnearyou
CATEGORIES:
DESCRIPTION:Common Worship style of service - excepting 4th Sundays when M
 orning Prayer will be usual.
LOCATION:St Erme: St Hermes
URL:https://www.achurchnearyou.com/church/2435/service-and-events/events/7
 23501/
END:VEVENT
END:VCALENDAR
