BEGIN:VCALENDAR
VERSION:2.0
PRODID:-//achurchnearyou.com//eventfeed//EN
CALSCALE:GREGORIAN
METHOD:PUBLISH
X-WR-TIMEZONE:UTC
BEGIN:VEVENT
SUMMARY:Eucharist for Christmas Eve
DTSTART:20251224T210000Z
DTEND:20251224T220000Z
DTSTAMP:20260424T191305Z
UID:12737562025-12-24 21:00:00+00:00achurchnearyou
CATEGORIES:
DESCRIPTION:Christmas Eve Eucharist
GEO:-5.110839;50.403261
LOCATION:Crantock : St Carantoc
URL:https://www.achurchnearyou.com/church/2455/service-and-events/events/1
 273756/
END:VEVENT
END:VCALENDAR
