BEGIN:VCALENDAR
VERSION:2.0
PRODID:-//achurchnearyou.com//eventfeed//EN
CALSCALE:GREGORIAN
METHOD:PUBLISH
X-WR-TIMEZONE:UTC
BEGIN:VEVENT
SUMMARY:Eucharist for Christmas
DTSTART:20251225T110000Z
DTEND:20251225T120000Z
DTSTAMP:20260424T205134Z
UID:12737622025-12-25 11:00:00+00:00achurchnearyou
CATEGORIES:
DESCRIPTION:Christmas Morning Family Eucharist
GEO:-5.110839;50.403261
LOCATION:Crantock : St Carantoc
URL:https://www.achurchnearyou.com/church/2455/service-and-events/events/1
 273762/
END:VEVENT
END:VCALENDAR
