BEGIN:VCALENDAR
VERSION:2.0
PRODID:-//achurchnearyou.com//eventfeed//EN
CALSCALE:GREGORIAN
METHOD:PUBLISH
X-WR-TIMEZONE:UTC
BEGIN:VEVENT
SUMMARY:Carol Service
DTSTART:20251220T170000Z
DTEND:20251220T180000Z
DTSTAMP:20260424T172319Z
UID:12737642025-12-20 17:00:00+00:00achurchnearyou
CATEGORIES:
DESCRIPTION:Evening of Carols and Lessons
GEO:-5.110839;50.403261
LOCATION:Crantock : St Carantoc
URL:https://www.achurchnearyou.com/church/2455/service-and-events/events/1
 273764/
END:VEVENT
END:VCALENDAR
